BEGIN:VCALENDAR
VERSION:2.0
PRODID:-//ChamberMaster//Event Calendar 2.0//EN
METHOD:PUBLISH
X-PUBLISHED-TTL:P3D
REFRESH-INTERVAL:P3D
CALSCALE:GREGORIAN
BEGIN:VEVENT
DTSTART:20171023T150000Z
DTEND:20171023T160000Z
X-MICROSOFT-CDO-ALLDAYEVENT:FALSE
SUMMARY:Ribbon Cutting CrossFit Impact
DESCRIPTION:Ribbon Cutting for Cross Fit Impact
X-ALT-DESC;FMTTYPE=text/html:Ribbon Cutting for Cross Fit Impact
LOCATION:1882 Johns Drive\, Glenview
UID:e.434.7324
SEQUENCE:3
DTSTAMP:20260425T225231Z
URL:http://business.glenviewchamber.com/events/details/ribbon-cutting-crossfit-impact-7324
END:VEVENT

END:VCALENDAR
