BEGIN:VCALENDAR
VERSION:2.0
PRODID:-//ChamberMaster//Event Calendar 2.0//EN
METHOD:PUBLISH
X-PUBLISHED-TTL:P3D
REFRESH-INTERVAL:P3D
CALSCALE:GREGORIAN
BEGIN:VEVENT
DTSTART:20171005T160000Z
DTEND:20171005T170000Z
X-MICROSOFT-CDO-ALLDAYEVENT:FALSE
SUMMARY:Ribbon Cutting R&J Wine & Spirits
DESCRIPTION:Ribbon Cutting for R&J Wine & Spirits on October 5 at 11 a.m.
X-ALT-DESC;FMTTYPE=text/html:<strong>Ribbon Cutting for R&amp\;J Wine &amp\; Spirits on&nbsp\;October 5 at 11 a.m.</strong>
LOCATION:972 Harlem Avenue\, Glenview (in Olympia Center at the southwest corner of Harlem Ave. & Glenview Rd.)
UID:e.434.7318
SEQUENCE:3
DTSTAMP:20260426T001747Z
URL:http://business.glenviewchamber.com/events/details/ribbon-cutting-r-j-wine-spirits-7318
END:VEVENT

END:VCALENDAR
