BEGIN:VCALENDAR
VERSION:2.0
PRODID:-//ChamberMaster//Event Calendar 2.0//EN
METHOD:PUBLISH
X-PUBLISHED-TTL:P3D
REFRESH-INTERVAL:P3D
CALSCALE:GREGORIAN
BEGIN:VEVENT
DTSTART:20260219T221500Z
DTEND:20260219T234500Z
X-MICROSOFT-CDO-ALLDAYEVENT:FALSE
SUMMARY:ROBOTHINK Workshop: Battle Robots
DESCRIPTION:With their imagination as their guide\, students will construct and customize their own battle robot\, then challenge their creation against other robots.
X-ALT-DESC;FMTTYPE=text/html:With their imagination as their guide\, students will construct and customize their own battle robot\, then challenge their creation against other robots.
LOCATION:2705 Techny Rd\, Northbrook\, IL\, 60062
UID:e.434.11556
SEQUENCE:3
DTSTAMP:20260425T101935Z
URL:http://business.glenviewchamber.com/events/details/robothink-workshop-battle-robots-11556
END:VEVENT

END:VCALENDAR
