BEGIN:VCALENDAR
VERSION:2.0
PRODID:-//ChamberMaster//Event Calendar 2.0//EN
METHOD:PUBLISH
X-PUBLISHED-TTL:P3D
REFRESH-INTERVAL:P3D
CALSCALE:GREGORIAN
BEGIN:VEVENT
DTSTART:20251113T221500Z
DTEND:20251113T234500Z
X-MICROSOFT-CDO-ALLDAYEVENT:FALSE
SUMMARY:Robothink Workshops: STEM Inventions
DESCRIPTION:Young inventors wanted! Explore invention history and build revolutionary creations using RoboThink's cutting-edge hardware in this hands-on workshop. (Ages 7-12)
X-ALT-DESC;FMTTYPE=text/html:Young inventors wanted! Explore invention history and build revolutionary creations using RoboThink&rsquo\;s cutting-edge hardware in this hands-on workshop. (Ages 7-12)
LOCATION:North Suburban Ymca 2705 Techny Rd. Northbrook. IL 60062
UID:e.434.11263
SEQUENCE:3
DTSTAMP:20260422T175412Z
URL:http://business.glenviewchamber.com/events/details/robothink-workshops-stem-inventions-11263
END:VEVENT

END:VCALENDAR
