BEGIN:VCALENDAR
VERSION:2.0
PRODID:-//ChamberMaster//Event Calendar 2.0//EN
METHOD:PUBLISH
X-PUBLISHED-TTL:P3D
REFRESH-INTERVAL:P3D
CALSCALE:GREGORIAN
BEGIN:VEVENT
DTSTART:20250918T211500Z
DTEND:20250918T224500Z
X-MICROSOFT-CDO-ALLDAYEVENT:FALSE
SUMMARY:Robothink Workshops: Trains\, Planes & Automobiles
DESCRIPTION:Build robots inspired by real vehicles! Kids use motors and gears to create\, explore STEM\, and engineer moving machines. (Ages 7-12)
X-ALT-DESC;FMTTYPE=text/html:Build robots inspired by real vehicles! Kids use motors and gears to create\, explore STEM\, and engineer moving machines. (Ages 7-12)
LOCATION:North Suburban YMCA 2705 Techny Rd. Northbrook. IL 60062
UID:e.434.11261
SEQUENCE:3
DTSTAMP:20260420T073715Z
URL:http://business.glenviewchamber.com/events/details/robothink-workshops-trains-planes-automobiles-11261
END:VEVENT

END:VCALENDAR
