BEGIN:VCALENDAR
VERSION:2.0
PRODID:-//ChamberMaster//Event Calendar 2.0//EN
METHOD:PUBLISH
X-PUBLISHED-TTL:P3D
REFRESH-INTERVAL:P3D
CALSCALE:GREGORIAN
BEGIN:VEVENT
DTSTART:20171118T013000Z
DTEND:20171118T040000Z
X-MICROSOFT-CDO-ALLDAYEVENT:FALSE
SUMMARY:Rock House Presents Beer Launch Party
DESCRIPTION:Macushla Brewing Company's "Coffee Clothesline" is a stout made with Rick House's very own coffee! Come in to try a taste and hear some amazing music!\n\nVictor Brown Band kicks off the party at 8 p.m.!
X-ALT-DESC;FMTTYPE=text/html:<p>Macushla Brewing Company&#39\;s &quot\;Coffee Clothesline&quot\; is a stout made with Rick House&#39\;s very own coffee! Come in to try a taste and hear some amazing music!<br />\nVictor Brown Band kicks off the party at 8 p.m.!</p>\n
LOCATION:Rock House 1742 Glenview Road Glenview\, IL
UID:e.434.8075
SEQUENCE:3
DTSTAMP:20260425T214455Z
URL:http://business.glenviewchamber.com/events/details/rock-house-presents-beer-launch-party-8075
END:VEVENT

END:VCALENDAR
