BEGIN:VCALENDAR
VERSION:2.0
PRODID:-//ChamberMaster//Event Calendar 2.0//EN
METHOD:PUBLISH
X-PUBLISHED-TTL:P3D
REFRESH-INTERVAL:P3D
CALSCALE:GREGORIAN
BEGIN:VEVENT
DTSTART:20180422T220000Z
DTEND:20180423T010000Z
X-MICROSOFT-CDO-ALLDAYEVENT:FALSE
SUMMARY:Rodan and Felds\, Spring Forward\, Age Backwards!
DESCRIPTION:Rodan and Fields at Glenbrook Remodeling showroom\n\nSpring Forward\, Age Backwards!\n\n\n\nDrop in for cocktails and conversation. Discover how a simple skincare routine can turn back time and help your skin blossom.
X-ALT-DESC;FMTTYPE=text/html:Rodan and Fields at Glenbrook Remodeling showroom<br />\nSpring Forward\, Age Backwards!<br />\n<br />\nDrop in for cocktails and conversation. Discover how a simple skincare routine can turn back time and help your skin blossom.&nbsp\;<br />\n&nbsp\;
LOCATION:450 Glenview Road Glenview\, IL
UID:e.434.9774
SEQUENCE:3
DTSTAMP:20260425T151753Z
URL:http://business.glenviewchamber.com/events/details/rodan-and-felds-spring-forward-age-backwards-9774
END:VEVENT

END:VCALENDAR
