BEGIN:VCALENDAR
VERSION:2.0
PRODID:-//ChamberMaster//Event Calendar 2.0//EN
METHOD:PUBLISH
X-PUBLISHED-TTL:P3D
REFRESH-INTERVAL:P3D
CALSCALE:GREGORIAN
BEGIN:VEVENT
DTSTART;VALUE=DATE:20160726
DTEND;VALUE=DATE:20160727
TRANSP:TRANSPARENT
X-MICROSOFT-CDO-ALLDAYEVENT:TRUE
SUMMARY:SCORE Consultations
DESCRIPTION:Need some business advice? You're in luck! The Chamber is partnering with SCORE Chicago to bring you access to free face-to-face consultations. Whether your business is just starting out or you have been established for many years\, you can now meet with a SCORE mentor at the Chamber office! Meetings are by appointment only.
X-ALT-DESC;FMTTYPE=text/html:Need some business advice? You&#39\;re in luck! The Chamber is partnering with SCORE Chicago to bring you access to free face-to-face consultations. Whether your business is just starting out or you have been established for many years\, you can now meet with a SCORE mentor at the Chamber office! <strong>Meetings are by appointment only.</strong>
LOCATION:Glenview Chamber of Commerce/Glenview State Bank 2222 Chestnut Ave.\, Glenview
UID:e.434.1710
SEQUENCE:3
DTSTAMP:20260420T083856Z
URL:http://business.glenviewchamber.com/events/details/score-consultations-07-26-2016-1710
END:VEVENT

END:VCALENDAR
