BEGIN:VCALENDAR
VERSION:2.0
PRODID:-//ChamberMaster//Event Calendar 2.0//EN
METHOD:PUBLISH
X-PUBLISHED-TTL:P3D
REFRESH-INTERVAL:P3D
CALSCALE:GREGORIAN
BEGIN:VEVENT
DTSTART:20191024T000000Z
DTEND:20191024T030000Z
X-MICROSOFT-CDO-ALLDAYEVENT:FALSE
SUMMARY:Screenagers 2: The Next Chapter
DESCRIPTION:Screening of Screenagers 2: The Next Chapter\, followed by a discussion led by Family Service Center's Robin Lake\, LCSW\, and Renee Z. Dominguez\, PhD.
X-ALT-DESC;FMTTYPE=text/html:Screening of Screenagers 2: The Next Chapter\, followed by a discussion led by Family Service Center&#39\;s Robin Lake\, LCSW\, and Renee Z. Dominguez\, PhD.
LOCATION:Wilmette Theatre
UID:e.434.10251
SEQUENCE:3
DTSTAMP:20260424T163511Z
URL:http://business.glenviewchamber.com/events/details/screenagers-2-the-next-chapter-10251
END:VEVENT

END:VCALENDAR
