BEGIN:VCALENDAR
VERSION:2.0
PRODID:-//ChamberMaster//Event Calendar 2.0//EN
METHOD:PUBLISH
X-PUBLISHED-TTL:P3D
REFRESH-INTERVAL:P3D
CALSCALE:GREGORIAN
BEGIN:VEVENT
DTSTART:20171202T170000Z
DTEND:20171202T210000Z
X-MICROSOFT-CDO-ALLDAYEVENT:FALSE
SUMMARY:Selfies w/Santa & Holiday Bazaar\, Glenview\, Sat\, 12/2\, 11am-3pm!
DESCRIPTION:JUST ADDED! ...LIVE REINDEER!\n\nFree pictures w/Santa Claus ...leashed pets welcome!\n\nBalloon Artist\, Kids Craft Corner\, & lots of FUN GIVEAWAYS!\n\nHoliday Bazaar Vendors: LulaRoe\, Tupperware\, Perfectly Posh\, Scentsy\, MKM Splendor\, TC Creations\, Stacey's Stuff\, Tastefully Simple\, Bella Sana Med Spa\, Young Living Essential Oils\, with performances by the City Kid Theater Co. of Glenview\n\n                    Saturday\, December 2\, 2017\, 11am-3pm\n\n\n\n Renewal by Andersen Windows & Doors Glenview Showroom\n\n                               2300 Ridge Dr.\n\n     (just east of the North Glenview Metra Station)\n\n   Old Willow Rd. & Ravine Way Industrial Park
X-ALT-DESC;FMTTYPE=text/html:<p><strong>JUST ADDED! ...LIVE REINDEER!<br />\nFree pictures w/Santa Claus ...leashed pets welcome!<br />\nBalloon Artist\, Kids Craft Corner\, &amp\; lots of FUN GIVEAWAYS!<br />\nHoliday Bazaar&nbsp\;Vendors: LulaRoe\, Tupperware\, Perfectly Posh\, Scentsy\, MKM Splendor\, TC Creations\, Stacey&#39\;s Stuff\,&nbsp\;Tastefully Simple\,&nbsp\;Bella Sana Med Spa\, Young Living Essential Oils\,&nbsp\;with performances by the&nbsp\;City Kid Theater Co. of Glenview</strong></p>\n\n<p>&nbsp\; &nbsp\; &nbsp\; &nbsp\; &nbsp\; &nbsp\; &nbsp\; &nbsp\; &nbsp\; &nbsp\;&nbsp\;Saturday\, December 2\, 2017\, 11am-3pm</p>\n\n<p><br />\n<strong>&nbsp\;Renewal by Andersen Windows &amp\; Doors Glenview Showroom<br />\n&nbsp\; &nbsp\; &nbsp\; &nbsp\; &nbsp\; &nbsp\; &nbsp\; &nbsp\; &nbsp\; &nbsp\; &nbsp\; &nbsp\; &nbsp\; &nbsp\; &nbsp\; &nbsp\;2300 Ridge Dr.<br />\n&nbsp\; &nbsp\; &nbsp\;(just east of the North Glenview Metra Station)<br />\n&nbsp\; &nbsp\;Old Willow Rd. &amp\; Ravine Way Industrial Park</strong></p>\n
LOCATION:
UID:e.434.7327
SEQUENCE:3
DTSTAMP:20260425T214018Z
URL:http://business.glenviewchamber.com/events/details/selfies-w-santa-holiday-bazaar-glenview-sat-12-2-11am-3pm-7327
END:VEVENT

END:VCALENDAR
