BEGIN:VCALENDAR
VERSION:2.0
PRODID:-//ChamberMaster//Event Calendar 2.0//EN
METHOD:PUBLISH
X-PUBLISHED-TTL:P3D
REFRESH-INTERVAL:P3D
CALSCALE:GREGORIAN
BEGIN:VEVENT
DTSTART:20170608T170000Z
DTEND:20170608T180000Z
X-MICROSOFT-CDO-ALLDAYEVENT:FALSE
SUMMARY:Lunch Seminar addressing Cook County's ordinance changes
DESCRIPTION:Matt Brown of Jackson Lewis P.C.\nis hosting a Lunch & Learn\n\nTOPIC:  Cook County Earned Sick Leave Ordinance\n\nRSVP required \n\nCompanies located and doing business in Glenview and other parts of Cook County will soon need to reexamine their employee sick leave policies and ensure that they are in compliance with the new Cook County Earned Sick Leave Ordinance.  The Ordinance\, which passed on October 5\, 2016\, and becomes law effective July 1\, 2017\, mandates that employers in Cook County\, Illinois allow eligible employees to accrue up to 40 hours of paid sick leave in each 12-month period of their employment.  The Cook County Commission on Human Rights has posted draft regulations that will govern its interpretation and enforcement of the Ordinance\, and it has stated that it will adopt final regulations by June 1\, 2017\, one month before the Ordinance takes effect.\n\n \n\nCertain municipalities in Cook County have chosen to opt out of the Ordinance\, and more are currently contemplating opting out.  The Ordinance has implications for employers of all sizes\, however\, whether or not the employer's primary place of business is in a municipality that has opted out of the Ordinance.  For example\, the draft regulations indicate that\, even if an employer is based in a municipality that has opted out of the Ordinance\, if it has employees that sometimes work in municipalities that have not opted out\, then that employer could still be covered by the Ordinance.
X-ALT-DESC;FMTTYPE=text/html:<strong><span style="font-size:14px\;"><span style="color:#1F497D\;"><span style="font-family:calibri\,sans-serif\;">Matt Brown of Jackson Lewis P.C.</span></span></span></strong>\n<div><span style="font-size:14px\;"><span style="color:#1F497D\;"><span style="font-family:calibri\,sans-serif\;">is hosting a Lunch &amp\; Learn</span></span></span></div>\n\n<div><span style="font-family: calibri\, sans-serif\; color: rgb(31\, 73\, 125)\; font-size: 14px\;"><strong>TOPIC: </strong>&nbsp\;Cook County Earned Sick Leave Ordinance</span></div>\n\n<div><span style="font-family: calibri\, sans-serif\; color: rgb(31\, 73\, 125)\; font-size: 14px\;">RSVP required&nbsp\;</span><br />\n<span style="color:#1F497D\;"><span style="font-family:calibri\,sans-serif\;"><span style="font-size:11.0pt\;">Companies located and doing business in Glenview and other parts of Cook County will soon need to reexamine their employee sick leave policies and ensure that they are in compliance with the new Cook County Earned Sick Leave Ordinance.&nbsp\; The Ordinance\, which passed on October 5\, 2016\, and becomes law effective July 1\, 2017\, mandates that employers in Cook County\, Illinois allow eligible employees to accrue up to 40 hours of paid sick leave in each 12-month period of their employment.&nbsp\; The Cook County Commission on Human Rights has posted draft regulations that will govern its interpretation and enforcement of the Ordinance\, and it has stated that it will adopt final regulations by June 1\, 2017\, one month before the Ordinance takes effect.</span></span></span><br />\n&nbsp\;<br />\n<span style="color:#1F497D\;"><span style="font-family:calibri\,sans-serif\;"><span style="font-size:11.0pt\;">Certain municipalities in Cook County have chosen to opt out of the Ordinance\, and more are currently contemplating opting out.&nbsp\; The Ordinance has implications for employers of all sizes\, however\, whether or not the employer&rsquo\;s primary place of business is in a municipality that has opted out of the Ordinance.&nbsp\; For example\, the draft regulations indicate that\, even if an employer is based in a municipality that has opted out of the Ordinance\, if it has employees that sometimes work in municipalities that have not opted out\, then that employer could still be covered by the Ordinance. &nbsp\;</span></span></span><br />\n&nbsp\;</div>\n
LOCATION:Glenview Grind Coffee House 1837 Glenview Road\, Glenview
UID:e.434.7001
SEQUENCE:3
DTSTAMP:20260426T015850Z
URL:http://business.glenviewchamber.com/events/details/seminar-addressing-cook-county-s-ordinance-changes-7001
END:VEVENT

END:VCALENDAR
