BEGIN:VCALENDAR
VERSION:2.0
PRODID:-//ChamberMaster//Event Calendar 2.0//EN
METHOD:PUBLISH
X-PUBLISHED-TTL:P3D
REFRESH-INTERVAL:P3D
CALSCALE:GREGORIAN
BEGIN:VEVENT
DTSTART:20180207T140000Z
DTEND:20180207T153000Z
X-MICROSOFT-CDO-ALLDAYEVENT:FALSE
SUMMARY:Senior Services Morning Networking
DESCRIPTION:The Glenview Chamber of Commerce Senior Services group supports\, educates and promotes businesses that service the seniors of our community.\n\n\n\nDo you have a business that provides services to seniors in our community?  Do you work with other businesses that provide services to seniors? Do you experience challenges in working with seniors? According to the 2010 census\, 20% of the Glenview population was 65 or older. As a business owner that provides services to seniors\, Let us gather  to support each other's businesses and in turn increase the quality of services our local senior population receives.
X-ALT-DESC;FMTTYPE=text/html:<strong>The Glenview Chamber of Commerce Senior Services group supports\, educates and promotes businesses that service the seniors of our community.</strong><br />\n<br />\nDo you have a business that provides services to seniors in our community? &nbsp\;Do you work with other businesses that provide services to seniors? Do you experience challenges in working with seniors? According to the 2010 census\, 20% of the Glenview population was 65 or older. As a business owner that provides services to seniors\,&nbsp\;<span style="font-family: calibri\, sans-serif\;"><span style="font-size: 11pt\;">Let us gather &nbsp\;to support each other&#39\;s businesses and in turn increase the quality of services our</span></span>&nbsp\;<span style="font-family: calibri\, sans-serif\;"><span style="font-size: 11pt\;">local senior population receives.</span></span>
LOCATION:Vi at the Glen 2500 Indigo Lane\, Glenview
UID:e.434.8681
SEQUENCE:3
DTSTAMP:20260425T185453Z
URL:http://business.glenviewchamber.com/events/details/senior-services-morning-networking-8681
END:VEVENT

END:VCALENDAR
