BEGIN:VCALENDAR
VERSION:2.0
PRODID:-//ChamberMaster//Event Calendar 2.0//EN
METHOD:PUBLISH
X-PUBLISHED-TTL:P3D
REFRESH-INTERVAL:P3D
CALSCALE:GREGORIAN
BEGIN:VEVENT
DTSTART:20220807T140000Z
DTEND:20220807T190000Z
X-MICROSOFT-CDO-ALLDAYEVENT:FALSE
SUMMARY:Shamanic Journey For Soul Retrieval
DESCRIPTION:Learn to work with Angels\, Archangels\, Ascended Masters\, and Guides to gain support\, guidance\, and specifically to restore lost parts of your soul.
X-ALT-DESC;FMTTYPE=text/html:Learn to work with Angels\, Archangels\, Ascended Masters\, and Guides to gain support\, guidance\, and specifically to restore lost parts of your soul.
LOCATION:Be Optimal Holistic Health Center 5225 Old Orchard Rd\, Suite 31\, Skokie\, IL
UID:e.434.10619
SEQUENCE:3
DTSTAMP:20260420T112918Z
URL:http://business.glenviewchamber.com/events/details/shamanic-journey-for-soul-retrieval-10619
END:VEVENT

END:VCALENDAR
