BEGIN:VCALENDAR
VERSION:2.0
PRODID:-//ChamberMaster//Event Calendar 2.0//EN
METHOD:PUBLISH
X-PUBLISHED-TTL:P3D
REFRESH-INTERVAL:P3D
CALSCALE:GREGORIAN
BEGIN:VEVENT
DTSTART;VALUE=DATE:20171113
DTEND;VALUE=DATE:20171114
TRANSP:TRANSPARENT
X-MICROSOFT-CDO-ALLDAYEVENT:TRUE
SUMMARY:Shop Local Win with the Bear Campaign
DESCRIPTION:Win customers and lots of recognition with our SHOP LOCAL campaign\n\nLast year our successful\, village-wide shop local program brought over 3800 shoppers into Chamber stores businesses and organizations\, increasing foot traffic\, building stronger customer relationships\, and making the case for supporting local business. Gain instant recognition by participating in Win with the Bear this year it's easy.\n\n\n\nCustomers will register with you to win your prize and get the list of other participating businesses. They'll then turn in their special mega drawing forms for the grand price at Glenview Bank and Trust. Customers can enter the grand prize drawing as many times as they visit a participating business. The more businesses they visit the more chances they have to win. \n\n \n\nHere are the participating vendors and prizes:\n\nAbt Electronics: $100 gift card \n\n@properties: gift basket \n\nActionCOACH: $50 cash \n\nAdrian Flooring Inc.: $100.00 Abt Gift Card \n\nAnimal Artistry: Free Dog Grooming (up to $60 value) \n\nArcLight Cinemas: $50 Gift Card \n\nBaird & Warner Real Estate: $100 Visa Gift Card \n\nBentley's Pet Stuff: Gift basket with dry food\, canned food\, treats and a toy \n\nBikram Yoga North Shore: 2 months of unlimited hot yoga and inferno hot pilates classes \n\nCard & Party Giant: $25 gift certificate for holiday party supplies or costumes\n\nCarriage Hill Kennels Inc.: $25.00 off any service \n\nChristensen Animal Hospital: One Free Office VIsit with Comprehensive Physical \n\nCKF Acupuncture: $125 initial acupuncture treatment and Yancha Cosmetics bag \n\nCollege Nannies Sitters and Tutors Glenview: 2 Free Tutor Hours \n\nColonial Dental Group: Sensadyne Toothbrush set \n\nDaniel's Jewelry: 14kt yellow gold multi-diamond pendant \n\nDeka Lash Glenview: 1 free Full Set of Classic Eyelash Extensions (new customers only) or 2 Classic Refills and 1 Lash Coating Sealer (exisiting customers) both approx $200 value \n\nEco Gym: 2 week Personal Training Session \n\nElements Massage Glenview: 3 month 90 minute Massage \n\nEstetica Hair Design: Hair Care Basket with Gift Certificate \n\nFamily Video - Marco's Pizza: 1/2 off rentals for a year/Free Pizza for Year \n\nFamo's Subs\, Salads & Catering: $25 Gift Certificate \n\nFields Chrysler Jeep Dodge and Ram: Free Vehicle Detail \n\nFire & Ice Glenview LLC.: $100 gift certificate \n\nFonseca Martial Arts: One month Free or Free Birthday Party \n\nGail's Brownies: Cookie/Brownie Tower \n\nGlenview Bank & Trust: Star Wars Drone & Abt Gift Card Value $400 \n\nGlenview Coin & Collectibles: 2017 Silver Eagle Coin Value $25 \n\nGlenview Grind: Fleece jacket with $25 Gift Card \n\nGlenview Park District: One Family public skating pass\, Free 30 day unlimited fitness class pass\, Free hoop pass membership (limit 2 people)\, Free Park Center East Wing Membership\, Free splash Landings Membership (limit 2 people) \n\nGlenview Public Library: gift basket \n\nGlenview State Bank: $200.00 gift card to any retail establishment participating in the "win with the bear" \n\nHalo Laser & Aesthetic: Medicine Medical Grade Facial Treatment \n\nHarrison's Poultry Farm: $50 Gift Card \n\nHeinen's Grocery Store: $50 Gift Basket \n\nHlavacek Florist of Glenview: $25 Gift Certificate \n\nHouse of Wax Day: Spa Gift certificate \n\nIrish Connoisseur: A Pair of Galway Crystal Latte Mugs Value $20.00 \n\nJohnny's Kitchen & Tap: (2) $25 Gift Cards \n\nKohl Children's Museum of Greater Chicago: Family Passes for 4 admissions\, valued at $48 \n\nKoko FitClub: 1 Free month of plus limited membership (value $199) \n\nLearning Express Toys: Prize pack of 4 different types of spinners \n\nMichael Lee Photography: One family portrait session or up to three corporate headshots. \n\nMingle Juice Bar: $25 Gift Card w/ box of organic coffee or tea \n\nMorning Glory Flower Shop: Dozen Roses \n\nNecessities: $25 Gift Certificate \n\nNorth Suburban YMCA: One Month Family Membership \n\nNorthern Power Washing\; $400 certificate for house pressure wash or roof clean up \n\nNorthShore Boutique: Personalized Beverage Tub & Scoop \n\nNorthview Bank & Trust: Star Wars Drone & Abt Gift Card Value $400 \n\nOil Lamp Theater: 4 Tickets to any production \n\nOnomoli Fine Jewelry: Crystalis Bracelets \n\nPrintwell Printing: $250 Printing Certificate \n\nPure Barre Glenview: 5 class pack $125 value \n\nRock House: $50 Gift Card \n\nScandinavian Ski Shop: 2 - $50 Gift Cards \n\nStaybridge Suites Glenview: Complimentary one night stay \n\nSweet Ali's Gluten Free Bakery: $50 Gift Card \n\nTeddie Kossof Salon and Spa: $50 Gift Card \n\nThe Chicago Clubhouse: MT Booster Box or $75 Gift Card \n\nThometz & Uhland Orthodontics: 3 $500 Gift Certificates for braces \n\nTwisted Trunk: Candle with a gift card \n\nVillage of Glenview: Bear statuette value $100.00 \n\nVintage Nest: $25 Gift Card \n\nWeiss Ace Hardware: $50 Gift Card
X-ALT-DESC;FMTTYPE=text/html:<p><span style="font-size:12px\;">Win customers and lots of recognition with our SHOP LOCAL campaign<br />\nLast year our successful\, village-wide shop local program brought over 3800 shoppers into Chamber stores businesses and organizations\, increasing foot traffic\, building stronger customer relationships\, and making the case for supporting local business. Gain instant recognition by participating in Win with the Bear this year&mdash\;it&rsquo\;s easy.<br />\n<br />\nCustomers will register with you to win your prize and get the list of other participating businesses. They&rsquo\;ll then turn in their special mega drawing forms for the grand price at Glenview Bank and Trust. Customers can enter the grand prize drawing as many times as they visit a participating business. The more businesses they visit the more chances they have to win.&nbsp\;</span><br />\n&nbsp\;</p>\n\n<p><span style="font-size:12px\;"><span style="color: rgb(76\, 76\, 83)\; font-family: AsapRegular\, Arial\, sans-serif\;">Here are the participating vendors and prizes:</span></span></p>\n\n<p style="margin: 0px\; padding: 0px 10px 18px\; border: 0px\; font-stretch: normal\; font-size: 14px\; line-height: 22px\; font-family: AsapRegular\, Arial\, sans-serif\; vertical-align: baseline\; color: rgb(76\, 76\, 83)\;"><span style="font-size:12px\;">Abt Electronics: $100 gift card&nbsp\;<br style="font-stretch: normal\; line-height: 22px\;" />\n@properties: gift basket&nbsp\;<br style="font-stretch: normal\; line-height: 22px\;" />\nActionCOACH: $50 cash&nbsp\;<br style="font-stretch: normal\; line-height: 22px\;" />\nAdrian Flooring Inc.: $100.00 Abt Gift Card&nbsp\;<br style="font-stretch: normal\; line-height: 22px\;" />\nAnimal Artistry: Free Dog Grooming (up to $60 value)&nbsp\;<br style="font-stretch: normal\; line-height: 22px\;" />\nArcLight Cinemas: $50 Gift Card&nbsp\;<br style="font-stretch: normal\; line-height: 22px\;" />\nBaird &amp\; Warner Real Estate: $100 Visa Gift Card&nbsp\;<br style="font-stretch: normal\; line-height: 22px\;" />\nBentley&#39\;s Pet Stuff: Gift basket with dry food\, canned food\, treats and a toy&nbsp\;<br style="font-stretch: normal\; line-height: 22px\;" />\nBikram Yoga North Shore: 2 months of unlimited hot yoga and inferno hot pilates classes&nbsp\;<br style="font-stretch: normal\; line-height: 22px\;" />\nCard &amp\; Party Giant: $25 gift certificate for holiday party supplies or costumes<br style="font-stretch: normal\; line-height: 22px\;" />\nCarriage Hill Kennels Inc.: $25.00 off any service&nbsp\;<br style="font-stretch: normal\; line-height: 22px\;" />\nChristensen Animal Hospital: One Free Office VIsit with Comprehensive Physical&nbsp\;<br style="font-stretch: normal\; line-height: 22px\;" />\nCKF Acupuncture: $125 initial acupuncture treatment and Yancha Cosmetics bag&nbsp\;<br style="font-stretch: normal\; line-height: 22px\;" />\nCollege Nannies Sitters and Tutors Glenview: 2 Free Tutor Hours&nbsp\;<br style="font-stretch: normal\; line-height: 22px\;" />\nColonial Dental Group: Sensadyne Toothbrush set&nbsp\;<br style="font-stretch: normal\; line-height: 22px\;" />\nDaniel&#39\;s Jewelry: 14kt yellow gold multi-diamond pendant&nbsp\;<br style="font-stretch: normal\; line-height: 22px\;" />\nDeka Lash Glenview: 1 free Full Set of Classic Eyelash Extensions (new customers only) or 2 Classic Refills and 1 Lash Coating Sealer (exisiting customers) both approx $200 value&nbsp\;<br style="font-stretch: normal\; line-height: 22px\;" />\nEco Gym: 2 week Personal Training Session&nbsp\;<br style="font-stretch: normal\; line-height: 22px\;" />\nElements Massage Glenview: 3 month 90 minute Massage&nbsp\;<br style="font-stretch: normal\; line-height: 22px\;" />\nEstetica Hair Design: Hair Care Basket with Gift Certificate&nbsp\;<br style="font-stretch: normal\; line-height: 22px\;" />\nFamily Video - Marco&#39\;s Pizza: 1/2 off rentals for a year/Free Pizza for Year&nbsp\;<br style="font-stretch: normal\; line-height: 22px\;" />\nFamo&#39\;s Subs\, Salads &amp\; Catering: $25 Gift Certificate&nbsp\;<br style="font-stretch: normal\; line-height: 22px\;" />\nFields Chrysler Jeep Dodge and Ram: Free Vehicle Detail&nbsp\;<br style="font-stretch: normal\; line-height: 22px\;" />\nFire &amp\; Ice Glenview LLC.: $100 gift certificate&nbsp\;<br style="font-stretch: normal\; line-height: 22px\;" />\nFonseca Martial Arts: One month Free or Free Birthday Party&nbsp\;<br style="font-stretch: normal\; line-height: 22px\;" />\nGail&#39\;s Brownies: Cookie/Brownie Tower&nbsp\;<br style="font-stretch: normal\; line-height: 22px\;" />\nGlenview Bank &amp\; Trust: Star Wars Drone &amp\; Abt Gift Card Value $400&nbsp\;<br style="font-stretch: normal\; line-height: 22px\;" />\nGlenview Coin &amp\; Collectibles: 2017 Silver Eagle Coin Value $25&nbsp\;<br style="font-stretch: normal\; line-height: 22px\;" />\nGlenview Grind: Fleece jacket with $25 Gift Card&nbsp\;<br style="font-stretch: normal\; line-height: 22px\;" />\nGlenview Park District: One Family public skating pass\, Free 30 day unlimited fitness class pass\, Free hoop pass membership (limit 2 people)\, Free Park Center East Wing Membership\, Free splash Landings Membership (limit 2 people)&nbsp\;<br style="font-stretch: normal\; line-height: 22px\;" />\nGlenview Public Library: gift basket&nbsp\;<br style="font-stretch: normal\; line-height: 22px\;" />\nGlenview State Bank: $200.00 gift card to any retail establishment participating in the &quot\;win with the bear&quot\;&nbsp\;<br style="font-stretch: normal\; line-height: 22px\;" />\nHalo Laser &amp\; Aesthetic: Medicine Medical Grade Facial Treatment&nbsp\;<br style="font-stretch: normal\; line-height: 22px\;" />\nHarrison&#39\;s Poultry Farm: $50 Gift Card&nbsp\;<br style="font-stretch: normal\; line-height: 22px\;" />\nHeinen&#39\;s Grocery Store: $50 Gift Basket&nbsp\;<br style="font-stretch: normal\; line-height: 22px\;" />\nHlavacek Florist of Glenview: $25 Gift Certificate&nbsp\;<br style="font-stretch: normal\; line-height: 22px\;" />\nHouse of Wax Day: Spa Gift certificate&nbsp\;<br style="font-stretch: normal\; line-height: 22px\;" />\nIrish Connoisseur: A Pair of Galway Crystal Latte Mugs Value $20.00&nbsp\;<br style="font-stretch: normal\; line-height: 22px\;" />\nJohnny&#39\;s Kitchen &amp\; Tap: (2) $25 Gift Cards&nbsp\;<br style="font-stretch: normal\; line-height: 22px\;" />\nKohl Children&#39\;s Museum of Greater Chicago: Family Passes for 4 admissions\, valued at $48&nbsp\;<br style="font-stretch: normal\; line-height: 22px\;" />\nKoko FitClub: 1 Free month of plus limited membership (value $199)&nbsp\;<br style="font-stretch: normal\; line-height: 22px\;" />\nLearning Express Toys: Prize pack of 4 different types of spinners&nbsp\;<br style="font-stretch: normal\; line-height: 22px\;" />\nMichael Lee Photography: One family portrait session or up to three corporate headshots.&nbsp\;<br style="font-stretch: normal\; line-height: 22px\;" />\nMingle Juice Bar: $25 Gift Card w/ box of organic coffee or tea&nbsp\;<br style="font-stretch: normal\; line-height: 22px\;" />\nMorning Glory Flower Shop: Dozen Roses&nbsp\;<br style="font-stretch: normal\; line-height: 22px\;" />\nNecessities: $25 Gift Certificate&nbsp\;<br style="font-stretch: normal\; line-height: 22px\;" />\nNorth Suburban YMCA: One Month Family Membership&nbsp\;<br style="font-stretch: normal\; line-height: 22px\;" />\nNorthern Power Washing\; $400 certificate for house pressure wash or roof clean up&nbsp\;<br style="font-stretch: normal\; line-height: 22px\;" />\nNorthShore Boutique: Personalized Beverage Tub &amp\; Scoop&nbsp\;<br style="font-stretch: normal\; line-height: 22px\;" />\nNorthview Bank &amp\; Trust: Star Wars Drone &amp\; Abt Gift Card Value $400&nbsp\;<br style="font-stretch: normal\; line-height: 22px\;" />\nOil Lamp Theater: 4 Tickets to any production&nbsp\;<br style="font-stretch: normal\; line-height: 22px\;" />\nOnomoli Fine Jewelry: Crystalis Bracelets&nbsp\;<br style="font-stretch: normal\; line-height: 22px\;" />\nPrintwell Printing: $250 Printing Certificate&nbsp\;<br style="font-stretch: normal\; line-height: 22px\;" />\nPure Barre Glenview: 5 class pack $125 value&nbsp\;<br style="font-stretch: normal\; line-height: 22px\;" />\nRock House: $50 Gift Card&nbsp\;<br style="font-stretch: normal\; line-height: 22px\;" />\nScandinavian Ski Shop: 2 - $50 Gift Cards&nbsp\;<br style="font-stretch: normal\; line-height: 22px\;" />\nStaybridge Suites Glenview: Complimentary one night stay&nbsp\;<br style="font-stretch: normal\; line-height: 22px\;" />\nSweet Ali&#39\;s Gluten Free Bakery: $50 Gift Card&nbsp\;<br style="font-stretch: normal\; line-height: 22px\;" />\nTeddie Kossof Salon and Spa: $50 Gift Card&nbsp\;<br style="font-stretch: normal\; line-height: 22px\;" />\nThe Chicago Clubhouse: MT Booster Box or $75 Gift Card&nbsp\;<br style="font-stretch: normal\; line-height: 22px\;" />\nThometz &amp\; Uhland Orthodontics: 3 $500 Gift Certificates for braces&nbsp\;<br style="font-stretch: normal\; line-height: 22px\;" />\nTwisted Trunk: Candle with a gift card&nbsp\;<br style="font-stretch: normal\; line-height: 22px\;" />\nVillage of Glenview: Bear statuette value $100.00&nbsp\;<br style="font-stretch: normal\; line-height: 22px\;" />\nVintage Nest: $25 Gift Card&nbsp\;<br style="font-stretch: normal\; line-height: 22px\;" />\nWeiss Ace Hardware: $50 Gift Card</span></p>\n
LOCATION:
UID:e.434.7280
SEQUENCE:3
DTSTAMP:20260425T225135Z
URL:http://business.glenviewchamber.com/events/details/shop-local-win-with-the-bear-campaign-7280
END:VEVENT

END:VCALENDAR
