BEGIN:VCALENDAR
VERSION:2.0
PRODID:-//ChamberMaster//Event Calendar 2.0//EN
METHOD:PUBLISH
X-PUBLISHED-TTL:P3D
REFRESH-INTERVAL:P3D
CALSCALE:GREGORIAN
BEGIN:VEVENT
DTSTART:20180211T010000Z
DTEND:20180211T030000Z
X-MICROSOFT-CDO-ALLDAYEVENT:FALSE
SUMMARY:Simple Gifts Concert Series presents La Caccina: Open Book Reprise
DESCRIPTION:La Caccina is a Chicago professional women's a cappella vocal ensemble of nine founded in 2011. The non-profit organization is dedicated to exploring the power of the female voice and contributing new and innovative works to the treble canon. "Open Book" showcases those things that are rarely sung about\, or even spoken\, using words sourced from journal entries\, blog posts\, and plays and poems that dive into our darkest secrets. Featuring "Roses"\, a new work by Augusta Read Thomas. Village Treasure House presents a silent auction. A free will donation benefits local women's charities.
X-ALT-DESC;FMTTYPE=text/html:La Caccina is a Chicago professional women&rsquo\;s a cappella vocal ensemble of nine founded in 2011. The non-profit organization is dedicated to exploring the power of the female voice and contributing new and innovative works to the treble canon. &ldquo\;Open Book&rdquo\; showcases those things that are rarely sung about\, or even spoken\, using words sourced from journal entries\, blog posts\, and plays and poems that dive into our darkest secrets. Featuring &ldquo\;Roses&rdquo\;\, a new work by Augusta Read Thomas. Village Treasure House presents a silent auction. A free will donation benefits local women&rsquo\;s charities.
LOCATION:Glenview Community Church\, 1000 Elm Street\, Glenview
UID:e.434.8728
SEQUENCE:3
DTSTAMP:20260425T175044Z
URL:http://business.glenviewchamber.com/events/details/simple-gifts-concert-series-presents-la-caccina-open-book-reprise-8728
END:VEVENT

END:VCALENDAR
