BEGIN:VCALENDAR
VERSION:2.0
PRODID:-//ChamberMaster//Event Calendar 2.0//EN
METHOD:PUBLISH
X-PUBLISHED-TTL:P3D
REFRESH-INTERVAL:P3D
CALSCALE:GREGORIAN
BEGIN:VEVENT
DTSTART:20171001T200000Z
DTEND:20171001T220000Z
X-MICROSOFT-CDO-ALLDAYEVENT:FALSE
SUMMARY:Simple Gifts Gala Concert
DESCRIPTION:The musicians of GCC open our 12th Simple Gifts concert season with sacred and secular music performed by vocal and instrumental soloists\, small ensembles\, the Chancel Choir and the Joyful Ringers Hand Bell Choir! Enjoy traditional favorites like "Wade in the Water" and "In the Sweet By and By". A free will offering will be taken to support the Simple Gifts Concert Series. Glenview Community Church is located at 1000 Elm Street (at Glenview Road)\, 3 blocks west of the Glenview Metra North train station. The building is handicap accessible and has free onsite parking.
X-ALT-DESC;FMTTYPE=text/html:The musicians of GCC open our 12th Simple Gifts concert season with sacred and secular music performed by vocal and instrumental soloists\, small ensembles\, the Chancel Choir and the Joyful Ringers Hand Bell Choir! Enjoy traditional favorites like &ldquo\;Wade in the Water&rdquo\; and &ldquo\;In the Sweet By and By&rdquo\;. A free will offering will be taken to support the Simple Gifts Concert Series. Glenview Community Church is located at 1000 Elm Street (at Glenview Road)\, 3 blocks west of the Glenview Metra North train station. The building is handicap accessible and has free onsite parking.
LOCATION:Glenview Community Church
UID:e.434.7316
SEQUENCE:3
DTSTAMP:20260425T225314Z
URL:http://business.glenviewchamber.com/events/details/simple-gifts-gala-concert-7316
END:VEVENT

END:VCALENDAR
