BEGIN:VCALENDAR
VERSION:2.0
PRODID:-//ChamberMaster//Event Calendar 2.0//EN
METHOD:PUBLISH
X-PUBLISHED-TTL:P3D
REFRESH-INTERVAL:P3D
CALSCALE:GREGORIAN
BEGIN:VEVENT
DTSTART:20170706T180000Z
DTEND:20170706T210000Z
X-MICROSOFT-CDO-ALLDAYEVENT:FALSE
SUMMARY:Small Business Forum & Resource Fair Hosted by Congressman Schneider
DESCRIPTION:Small Business Forum & Resource Fair
X-ALT-DESC;FMTTYPE=text/html:Small Business Forum &amp\; Resource Fair
LOCATION:College of Lake County Lakeshore Campus 33 N. Genesee Waukegan\, IL 60085
UID:e.434.7138
SEQUENCE:3
DTSTAMP:20260426T030706Z
URL:http://business.glenviewchamber.com/events/details/small-business-forum-resource-fair-hosted-by-congressman-schneider-7138
END:VEVENT

END:VCALENDAR
