BEGIN:VCALENDAR
VERSION:2.0
PRODID:-//ChamberMaster//Event Calendar 2.0//EN
METHOD:PUBLISH
X-PUBLISHED-TTL:P3D
REFRESH-INTERVAL:P3D
CALSCALE:GREGORIAN
BEGIN:VEVENT
DTSTART:20260207T190000Z
DTEND:20260207T213000Z
X-MICROSOFT-CDO-ALLDAYEVENT:FALSE
SUMMARY:Sound Bath Experience & Neurographic Art
DESCRIPTION:Take some time for yourself with relaxing sound baths and neurographic art. These creative practices help reduce stress\, quiet the mind\, and encourage mindfulness. Join us on the first Saturday of every month for a calm and inspiring afternoon. A sound bath uses soothing vibrations from bowls\, gongs\, and chimes to calm the mind\, release tension\, and promote deep relaxation. Neurographic Art uses simple lines and colors to reduce stress\, calm the mind\, and inspire creativity.
X-ALT-DESC;FMTTYPE=text/html:Take some time for yourself with relaxing sound baths and neurographic art. These creative practices help reduce stress\, quiet the mind\, and encourage mindfulness. Join us on the first Saturday of every month for a calm and inspiring afternoon. A sound bath uses soothing vibrations from bowls\, gongs\, and chimes to calm the mind\, release tension\, and promote deep relaxation. Neurographic Art uses simple lines and colors to reduce stress\, calm the mind\, and inspire creativity.
LOCATION:2705 Techny Rd\, Northbrook\, IL\, 60062
UID:e.434.11553
SEQUENCE:3
DTSTAMP:20260425T112402Z
URL:http://business.glenviewchamber.com/events/details/sound-bath-experience-neurographic-art-11553
END:VEVENT

END:VCALENDAR
