BEGIN:VCALENDAR
VERSION:2.0
PRODID:-//ChamberMaster//Event Calendar 2.0//EN
METHOD:PUBLISH
X-PUBLISHED-TTL:P3D
REFRESH-INTERVAL:P3D
CALSCALE:GREGORIAN
BEGIN:VEVENT
DTSTART:20180413T170000Z
DTEND:20180413T180000Z
X-MICROSOFT-CDO-ALLDAYEVENT:FALSE
SUMMARY:Spring Cleaning Workshop
DESCRIPTION:Inspire your Body & Mind\n\nSpring Cleaning Workshop\n\nInspire Counseling Center
X-ALT-DESC;FMTTYPE=text/html:Inspire your Body &amp\; Mind<br />\nSpring&nbsp\;Cleaning Workshop<br />\nInspire Counseling Center<br />\n<br />\n&nbsp\;
LOCATION:Inspire Counseling Center 3100 Dundee Road Suite 101 Northbrook\, IL
UID:e.434.8746
SEQUENCE:3
DTSTAMP:20260425T150919Z
URL:http://business.glenviewchamber.com/events/details/spring-cleaning-workshop-8746
END:VEVENT

END:VCALENDAR
