BEGIN:VCALENDAR
VERSION:2.0
PRODID:-//ChamberMaster//Event Calendar 2.0//EN
METHOD:PUBLISH
X-PUBLISHED-TTL:P3D
REFRESH-INTERVAL:P3D
CALSCALE:GREGORIAN
BEGIN:VEVENT
DTSTART;VALUE=DATE:20180316
DTEND;VALUE=DATE:20180318
TRANSP:TRANSPARENT
X-MICROSOFT-CDO-ALLDAYEVENT:TRUE
SUMMARY:St. Patrick's Day Ultimate Block Party
DESCRIPTION:St. Patrick's Day Ultimate Block Party\n\nBands Performing: Blotto\, Kashmir\, 7th Heaven\n\nTully Irish Dancers\, Beer\n\nBag pipers and huge party tent
X-ALT-DESC;FMTTYPE=text/html:St. Patrick&#39\;s Day Ultimate Block Party<br />\nBands Performing: Blotto\, Kashmir\, 7th Heaven<br />\nTully Irish Dancers\, Beer<br />\nBag pipers and huge party tent
LOCATION:The Curragh Irish Pub 1800 Tower Drive Glenview 847-998-1100
UID:e.434.8743
SEQUENCE:3
DTSTAMP:20260425T163409Z
URL:http://business.glenviewchamber.com/events/details/st-patrick-s-day-ultimate-block-party-8743
END:VEVENT

END:VCALENDAR
