BEGIN:VCALENDAR
VERSION:2.0
PRODID:-//ChamberMaster//Event Calendar 2.0//EN
METHOD:PUBLISH
X-PUBLISHED-TTL:P3D
REFRESH-INTERVAL:P3D
CALSCALE:GREGORIAN
BEGIN:VEVENT
DTSTART;VALUE=DATE:20170807
DTEND;VALUE=DATE:20170810
TRANSP:TRANSPARENT
X-MICROSOFT-CDO-ALLDAYEVENT:TRUE
SUMMARY:State Championship of Golf – Volunteers Still Needed
DESCRIPTION:VOLUNTEERS NEEDED FOR ILLINOIS OPEN CHAMPIONSHIP\n\nThe 68th Illinois Open Championship is rapidly approaching.\n\nThe Championship is scheduled for Monday\, August 7 - Wednesday\, August 9 at The Glen Club in Glenview\, IL and Briarwood Country Club in Deerfield\, IL.\n\n \n\nWe are seeking volunteers who are willing to donate their time working as a shuttle driver\, ball spotter\, on course support\, and in the scoring areas. As a shuttle driver\, you will help shuttle players and spectators between holes on the course. On-course support volunteers will assist in stocking food and beverage items throughout the golf courses and providing other services as needed.  Individuals working in the scoring area will collect scorecards or help update live scoring for the Championship.\n\n \n\nEach volunteer will receive an official Illinois Open shirt\, hat\, and meals for their efforts. For more information\, or if you are interested in volunteering for the Illinois Open\, https://ilpga.bluegolf.com/bluegolf/ilpga17/event/ilpga1767/index.htm. During registration\, if prompted to sign in\, please select I Am Not a Member.\n\n \n\nIf you have any questions\, contact Catherine Wagner in the Illinois PGA office via phone: 847.729.4102 or email: cwagner@pgahq.com.\n\nWe look forward to working with you at the 68th Illinois Open Championship!
X-ALT-DESC;FMTTYPE=text/html:<p><strong><span style="font-size:14.0pt\;">VOLUNTEERS NEEDED FOR ILLINOIS OPEN CHAMPIONSHIP</span></strong></p>\n\n<p>The 68th Illinois Open Championship is rapidly approaching.<br />\nThe Championship is scheduled for Monday\, August 7 - Wednesday\, August 9 at The Glen Club in Glenview\, IL and Briarwood Country Club in Deerfield\, IL.</p>\n\n<p>&nbsp\;</p>\n\n<p>We are seeking volunteers who are willing to donate their time working as a shuttle driver\, ball spotter\, on course support\, and in the scoring areas. As a shuttle driver\, you will help shuttle players and spectators between holes on the course. On-course support volunteers will assist in stocking food and beverage items throughout the golf courses and providing other services as needed. &nbsp\;Individuals working in the scoring area will collect scorecards or help update live scoring for the Championship.</p>\n\n<p>&nbsp\;</p>\n\n<p>Each volunteer will receive an official Illinois Open shirt\, hat\, and meals for their efforts. For more information\, or if you are interested in volunteering for the Illinois Open\, https://ilpga.bluegolf.com/bluegolf/ilpga17/event/ilpga1767/index.htm. During registration\, if prompted to sign in\, please select I Am Not a Member.</p>\n\n<p>&nbsp\;</p>\n\n<p>If you have any questions\, contact Catherine Wagner in the Illinois PGA office via phone: 847.729.4102 or email: cwagner@pgahq.com.<br />\nWe look forward to working with you at the 68th Illinois Open Championship!<br />\n<br />\n<br />\n<br />\n&nbsp\;</p>\n
LOCATION:The Glen Club 2901 West Lake Avenue Glenview\, IL
UID:e.434.7289
SEQUENCE:3
DTSTAMP:20260426T014551Z
URL:http://business.glenviewchamber.com/events/details/state-championship-of-golf-volunteers-still-needed-7289
END:VEVENT

END:VCALENDAR
