BEGIN:VCALENDAR
VERSION:2.0
PRODID:-//ChamberMaster//Event Calendar 2.0//EN
METHOD:PUBLISH
X-PUBLISHED-TTL:P3D
REFRESH-INTERVAL:P3D
CALSCALE:GREGORIAN
BEGIN:VEVENT
DTSTART:20190319T164500Z
DTEND:20190319T181500Z
X-MICROSOFT-CDO-ALLDAYEVENT:FALSE
SUMMARY:State of Healthcare
DESCRIPTION:Topic: Update on Glenbrook Hospital and \n\nEnvironmental Trends in Healthcare\n\n\n\nGlenbrook Hospital President Jesse Peterson Hall will provide an update on clinical programs and facilities on the Glenbrook campus and throughout NorthShore University HealthSystem. He will also provide an overview of environmental trends in healthcare. \n\nAttendee Value and Takeaways:\n\n Understand what is happening at Glenbrook Hospital and NorthShore University HealthSystem\n\n Learn about trends in the healthcare sector
X-ALT-DESC;FMTTYPE=text/html:<span style="letter-spacing:-.1pt\;language:en-US\;font-weight:bold\;font-style:italic\;"><span style="color:#0070C0\;"><span style="font-family:arial\;"><span style="font-size:12.0pt\;">Topic: Update on Glenbrook Hospital and </span></span></span></span><br />\n<span style="letter-spacing:-.1pt\;language:en-US\;font-weight:bold\;font-style:italic\;"><span style="color:#0070C0\;"><span style="font-family:arial\;"><span style="font-size:12.0pt\;">Environmental Trends in Healthcare</span></span></span></span><br />\n<br />\n<span style="letter-spacing:-.05pt\;language:en-US\;"><span style="color:black\;"><span style="font-family:cambria\;"><span style="font-size:12.0pt\;">Glenbrook Hospital President Jesse Peterson Hall will provide an update on clinical programs and facilities on the Glenbrook campus and throughout NorthShore University HealthSystem</span></span></span></span><span style="letter-spacing:-.05pt\;language:en-US\;"><span style="color:black\;"><span style="font-family:cambria\;"><span style="font-size:12.0pt\;">.</span></span></span></span><span style="letter-spacing:-.05pt\;language:en-US\;"><span style="color:black\;"><span style="font-family:cambria\;"><span style="font-size:12.0pt\;"> He will also provide an overview of environmental trends in healthcare. </span></span></span></span><br />\n<span style="letter-spacing:-.1pt\;language:en-US\;font-weight:bold\;"><span style="color:black\;"><span style="font-family:cambria\;"><span style="font-size:12.0pt\;">A</span></span></span></span><span style="language:en-US\;font-weight:bold\;"><span style="color:black\;"><span style="font-family:cambria\;"><span style="font-size:12.0pt\;">tt</span></span></span></span><span style="letter-spacing:-.1pt\;language:en-US\;font-weight:bold\;"><span style="color:black\;"><span style="font-family:cambria\;"><span style="font-size:12.0pt\;">e</span></span></span></span><span style="letter-spacing:-.15pt\;language:en-US\;font-weight:bold\;"><span style="color:black\;"><span style="font-family:cambria\;"><span style="font-size:12.0pt\;">n</span></span></span></span><span style="letter-spacing:-.1pt\;language:en-US\;font-weight:bold\;"><span style="color:black\;"><span style="font-family:cambria\;"><span style="font-size:12.0pt\;">dee</span></span></span></span> <span style="letter-spacing:-.15pt\;language:en-US\;font-weight:bold\;"><span style="color:black\;"><span style="font-family:cambria\;"><span style="font-size:12.0pt\;">V</span></span></span></span><span style="letter-spacing:-.05pt\;language:en-US\;font-weight:bold\;"><span style="color:black\;"><span style="font-family:cambria\;"><span style="font-size:12.0pt\;">a</span></span></span></span><span style="letter-spacing:-.1pt\;language:en-US\;font-weight:bold\;"><span style="color:black\;"><span style="font-family:cambria\;"><span style="font-size:12.0pt\;">lue</span></span></span></span> <span style="letter-spacing:-.05pt\;language:en-US\;font-weight:bold\;"><span style="color:black\;"><span style="font-family:cambria\;"><span style="font-size:12.0pt\;">a</span></span></span></span><span style="letter-spacing:-.15pt\;language:en-US\;font-weight:bold\;"><span style="color:black\;"><span style="font-family:cambria\;"><span style="font-size:12.0pt\;">n</span></span></span></span><span style="letter-spacing:-.1pt\;language:en-US\;font-weight:bold\;"><span style="color:black\;"><span style="font-family:cambria\;"><span style="font-size:12.0pt\;">d</span></span></span></span> <span style="letter-spacing:-.2pt\;language:en-US\;font-weight:bold\;"><span style="color:black\;"><span style="font-family:cambria\;"><span style="font-size:12.0pt\;">T</span></span></span></span><span style="letter-spacing:-.05pt\;language:en-US\;font-weight:bold\;"><span style="color:black\;"><span style="font-family:cambria\;"><span style="font-size:12.0pt\;">a</span></span></span></span><span style="letter-spacing:-.15pt\;language:en-US\;font-weight:bold\;"><span style="color:black\;"><span style="font-family:cambria\;"><span style="font-size:12.0pt\;">k</span></span></span></span><span style="letter-spacing:-.1pt\;language:en-US\;font-weight:bold\;"><span style="color:black\;"><span style="font-family:cambria\;"><span style="font-size:12.0pt\;">e</span></span></span></span><span style="letter-spacing:-.05pt\;language:en-US\;font-weight:bold\;"><span style="color:black\;"><span style="font-family:cambria\;"><span style="font-size:12.0pt\;">a</span></span></span></span><span style="letter-spacing:-.1pt\;language:en-US\;font-weight:bold\;"><span style="color:black\;"><span style="font-family:cambria\;"><span style="font-size:12.0pt\;">w</span></span></span></span><span style="letter-spacing:-.05pt\;language:en-US\;font-weight:bold\;"><span style="color:black\;"><span style="font-family:cambria\;"><span style="font-size:12.0pt\;">ays</span></span></span></span><span style="letter-spacing:-.05pt\;language:en-US\;font-weight:bold\;"><span style="color:black\;"><span style="font-family:cambria\;"><span style="font-size:12.0pt\;">:</span></span></span></span>\n\n<div style="language:en-US\;line-height:normal\;margin-top:2.5pt\;margin-bottom:0pt\;margin-left:.51in\;text-indent:-.13in\;text-align:left\;direction:ltr\;unicode-bidi:embed\;word-break:normal\;punctuation-wrap:hanging\;"><span style="font-size:12.0pt\;"><span style="font-family:symbol\;">&middot\;</span></span><span style="letter-spacing:-.1pt\;language:en-US\;"><span style="color:black\;"><span style="font-family:cambria\;"><span style="font-size:12.0pt\;">Understand what is happening at Glenbrook Hospital and NorthShore University HealthSystem</span></span></span></span></div>\n\n<div style="language:en-US\;line-height:normal\;margin-top:1.8pt\;margin-bottom:0pt\;margin-left:.51in\;text-indent:-.13in\;text-align:left\;direction:ltr\;unicode-bidi:embed\;word-break:normal\;punctuation-wrap:hanging\;"><span style="font-size:12.0pt\;"><span style="font-size:92%\;"><span style="font-family:symbol\;">&middot\;</span></span></span><span style="letter-spacing:-.1pt\;language:en-US\;"><span style="color:black\;"><span style="font-family:cambria\;"><span style="font-size:12.0pt\;">Learn about trends in the healthcare sector</span></span></span></span></div>\n
LOCATION:Hosted by: NorthShore Glenbrook Hospital 2100 Pfingsten Road 2nd floor\, Conference Rooms A1 and A2 (please use elevator B to access the 2nd floor)
UID:e.434.10092
SEQUENCE:3
DTSTAMP:20260425T035335Z
URL:http://business.glenviewchamber.com/events/details/state-of-healthcare-10092
END:VEVENT

END:VCALENDAR
