BEGIN:VCALENDAR
VERSION:2.0
PRODID:-//ChamberMaster//Event Calendar 2.0//EN
METHOD:PUBLISH
X-PUBLISHED-TTL:P3D
REFRESH-INTERVAL:P3D
CALSCALE:GREGORIAN
BEGIN:VEVENT
DTSTART:20180124T133000Z
DTEND:20180124T150000Z
X-MICROSOFT-CDO-ALLDAYEVENT:FALSE
SUMMARY:State of Healthcare
DESCRIPTION:The Health & Wellness Commitee Presents:\n\nState of Healthcare Educational Seminar\n\nSpeaker:  Dave Rahija\, NorthShore University Health System
X-ALT-DESC;FMTTYPE=text/html:The Health &amp\; Wellness Commitee Presents:<br />\n<strong>State of Healthcare Educational Seminar<br />\nSpeaker:&nbsp\; Dave Rahija\, NorthShore University Health System</strong>
LOCATION:Glenbrook Hospital 2100 Pfingsten Road\, Glenview Use the Landwehr entrance and meet at the John and Carol Walter Ambulatory Care Center Conference Rooms E&F
UID:e.434.8697
SEQUENCE:3
DTSTAMP:20260425T174938Z
URL:http://business.glenviewchamber.com/events/details/state-of-healthcare-8697
END:VEVENT

END:VCALENDAR
