BEGIN:VCALENDAR
VERSION:2.0
PRODID:-//ChamberMaster//Event Calendar 2.0//EN
METHOD:PUBLISH
X-PUBLISHED-TTL:P3D
REFRESH-INTERVAL:P3D
CALSCALE:GREGORIAN
BEGIN:VEVENT
DTSTART;VALUE=DATE:20170701
DTEND;VALUE=DATE:20170702
TRANSP:TRANSPARENT
X-MICROSOFT-CDO-ALLDAYEVENT:TRUE
SUMMARY:Summer Blood Drive
DESCRIPTION:Give blood and get a pie. Be a participating donor at any LifeSource community donor center July 1\, 2017-July 31\, 2017 and mention Code PIZZA to receive a FREE Lou Malnati's Personal Pan Pizza\, while supplies last.
X-ALT-DESC;FMTTYPE=text/html:Give blood and get a pie. Be a participating donor at any LifeSource community donor center July 1\, 2017-July 31\, 2017 and mention Code PIZZA to receive a FREE Lou Malnati&#39\;s&nbsp\;Personal Pan Pizza\, while supplies last.&nbsp\;
LOCATION:Any LifeSource community donor center.
UID:e.434.7268
SEQUENCE:3
DTSTAMP:20260426T030405Z
URL:http://business.glenviewchamber.com/events/details/summer-blood-drive-7268
END:VEVENT

END:VCALENDAR
