BEGIN:VCALENDAR
VERSION:2.0
PRODID:-//ChamberMaster//Event Calendar 2.0//EN
METHOD:PUBLISH
X-PUBLISHED-TTL:P3D
REFRESH-INTERVAL:P3D
CALSCALE:GREGORIAN
BEGIN:VEVENT
DTSTART:20170624T140000Z
DTEND:20170624T203000Z
X-MICROSOFT-CDO-ALLDAYEVENT:FALSE
SUMMARY:Summer Fest
DESCRIPTION:Get Ready for Live Music\, Cold Beer\, Family Fun\, Lots of Shopping\, and one Very Tall Guy in Shades\n\nFeaturing live music\, cold beer\, great sales\, and fun activities\, Glenview's annual Summer Fest  welcomes families and friends to Lehigh Avenue and Jackman Park in Glenview on Saturday\, June 24th. The fun starts at 9:00 and runs to 3:30.  \n\nOrganized by Glenview's Chamber of Commerce\, the Fest showcases a range of regional businesses and civic organizations and offers something for everyone   from restaurants to antique cars.  Crowd favorites include Hackney's\, Scandinavian Ski Shop and Katy Boldt Jewelry\, as well as the Glenview Fire Department's fire pole and special entertainment and kid friendly activities. You'll also find balloons\, crafts\, and maybe even puppies.\n\nThirsty fair-goers can also stop by this year's beer tent offering craft beers selections along with great summer standards.\n\nBe there for the fun\, the sun\, and the shopping!\n\nSponsored by: Glenview & Northview Bank and Trust\, Glenview State Bank\, Glenview Terrace and NorthShore University HealthSystem.
X-ALT-DESC;FMTTYPE=text/html:<strong>Get Ready for Live Music\, Cold Beer\, Family Fun\, Lots of Shopping\, and one Very Tall Guy in Shades</strong><br />\n<strong>Featuring live music\, cold beer\, great sales\, and fun activities\, Glenview&rsquo\;s </strong>annual Summer Fest &nbsp\;welcomes families and friends to Lehigh Avenue and Jackman&nbsp\;Park in Glenview on Saturday\, June 24<sup>th</sup>. The fun starts at 9:00 and runs to 3:30. &nbsp\;<br />\nOrganized by Glenview&rsquo\;s Chamber of Commerce\, the Fest showcases a range of regional businesses and civic organizations and offers something for everyone &ndash\; from restaurants to antique cars.&nbsp\; Crowd favorites include Hackney&rsquo\;s\, Scandinavian Ski Shop and Katy Boldt Jewelry\, as well as the Glenview Fire Department&rsquo\;s fire pole and special entertainment and kid friendly activities. You&rsquo\;ll also find balloons\, crafts\, and maybe even puppies.<br />\nThirsty fair-goers can also stop by this year&rsquo\;s beer tent offering craft beers selections along with great summer standards.<br />\nBe there for the fun\, the sun\, and the shopping!<br />\nSponsored by: Glenview &amp\; Northview Bank and Trust\, Glenview State Bank\, Glenview Terrace and NorthShore&nbsp\;University HealthSystem.&nbsp\;
LOCATION:Lehigh Avenue and Jackman Park
UID:e.434.6743
SEQUENCE:3
DTSTAMP:20260426T041454Z
URL:http://business.glenviewchamber.com/events/details/summer-fest-6743
END:VEVENT

END:VCALENDAR
