BEGIN:VCALENDAR
VERSION:2.0
PRODID:-//ChamberMaster//Event Calendar 2.0//EN
METHOD:PUBLISH
X-PUBLISHED-TTL:P3D
REFRESH-INTERVAL:P3D
CALSCALE:GREGORIAN
BEGIN:VEVENT
DTSTART:20180614T233000Z
DTEND:20180615T010000Z
X-MICROSOFT-CDO-ALLDAYEVENT:FALSE
SUMMARY:Sunset Shuffle 5K
DESCRIPTION:Sunset Shuffle 5k\n\nA Together We Tri Cares Event\n\nGALLERY PARK/GLEN GATEWAY SHOPPES\n\n  Competitive Runners\, Joggers\, Walker and Children welcome\n\n  USATF Certified Course and CARA sanctioned race\n\n  Swag Bag with performance t-shirt and goodies galore\n\n  Age Group Awards\n\n  Enjoy an afterhour party with a live band\, balloon artist and Expo\n\n  register @togetherwetri.com
X-ALT-DESC;FMTTYPE=text/html:Sunset Shuffle 5k<br />\nA Together We Tri Cares Event<br />\nGALLERY PARK/GLEN GATEWAY SHOPPES<br />\n&bull\; Competitive Runners\, Joggers\, Walker and Children welcome<br />\n&bull\; USATF Certified Course and CARA sanctioned race<br />\n&bull\; Swag Bag with performance t-shirt and goodies galore<br />\n&bull\; Age Group Awards<br />\n&bull\; Enjoy an afterhour party with a live band\, balloon artist and Expo<br />\n&bull\; register @togetherwetri.com
LOCATION:Gallery Park 2001 Patriot Blvd. Glenview
UID:e.434.8736
SEQUENCE:3
DTSTAMP:20260425T124600Z
URL:http://business.glenviewchamber.com/events/details/sunset-shuffle-5k-8736
END:VEVENT

END:VCALENDAR
