BEGIN:VCALENDAR
VERSION:2.0
PRODID:-//ChamberMaster//Event Calendar 2.0//EN
METHOD:PUBLISH
X-PUBLISHED-TTL:P3D
REFRESH-INTERVAL:P3D
CALSCALE:GREGORIAN
BEGIN:VEVENT
DTSTART:20180202T000000Z
DTEND:20180202T030000Z
X-MICROSOFT-CDO-ALLDAYEVENT:FALSE
SUMMARY:Sweets for Sight
DESCRIPTION:Join us for The Chicago Lighthouse's 12th Annual Sweets for Sight event on February 1.\n\n\n\nEnjoy drinks\, hors-d'oeuvres\, and of course plenty of sweets\, all in good company. All proceeds benefit Lighthouse programs for children with visual impairments.\n\n\n\nSweets for Sight will take place at Carnivale 702 W. Fulton Street in Chicago\, from 6PM - 9PM.\n\n\n\nLearn more and purchase tickets below:\n\nhttps://chicagolighthouse.org/event/sweets-for-sight/
X-ALT-DESC;FMTTYPE=text/html:<p><span style="font-size:10px"><span style="font-family:arial\,helvetica\,sans-serif"><big>Join us for The Chicago Lighthouse&#39\;s 12th Annual Sweets for Sight event on February 1.<br />\n<br />\nEnjoy drinks\, hors-d&#39\;oeuvres\, and of course plenty of sweets\, all in good company. All proceeds benefit Lighthouse programs for children with visual impairments.<br />\n<br />\nSweets for Sight will take place at </big></span></span>Carnivale 702 W. Fulton Street in Chicago<span style="font-size:10px"><span style="font-family:arial\,helvetica\,sans-serif"><big>\, from 6PM - 9PM.<br />\n<br />\nLearn more and purchase tickets below:</big></span></span><br />\nhttps://chicagolighthouse.org/event/sweets-for-sight/</p>\n
LOCATION:Carnivale 702 W. Fulton Street Chicago\, IL 60661
UID:e.434.4507
SEQUENCE:3
DTSTAMP:20260425T174639Z
URL:http://business.glenviewchamber.com/events/details/sweets-for-sight-02-05-2015-4507
END:VEVENT

END:VCALENDAR
