BEGIN:VCALENDAR
VERSION:2.0
PRODID:-//ChamberMaster//Event Calendar 2.0//EN
METHOD:PUBLISH
X-PUBLISHED-TTL:P3D
REFRESH-INTERVAL:P3D
CALSCALE:GREGORIAN
BEGIN:VEVENT
DTSTART:20190724T133000Z
DTEND:20190724T193000Z
X-MICROSOFT-CDO-ALLDAYEVENT:FALSE
SUMMARY:Tax Professional Reception - CE Credits
DESCRIPTION:Come join Lakeshore Financial Group for a complimentary reception for tax professionals on July 24th. \n\n	Breakfast and lunch is provided!\n	3 CE credits for attending!\n	No cost to you!\n\nTopic of discussion will be how to utilize tax advantages from:\n\n\n	Charitable LLCs\n	Pension Alternatives\n	Captive Insurance
X-ALT-DESC;FMTTYPE=text/html:Come join Lakeshore Financial Group for a complimentary reception for tax professionals on July 24th.&nbsp\;\n<ul>\n	<li>Breakfast and lunch is provided!</li>\n	<li>3 CE credits for attending!</li>\n	<li>No cost to you!</li>\n</ul>\nTopic&nbsp\;of discussion will be how to utilize tax advantages from:\n\n<ol>\n	<li>Charitable LLCs</li>\n	<li>Pension Alternatives</li>\n	<li>Captive Insurance</li>\n</ol>\n
LOCATION:Lakeshore Financial Group 123 N. Wacker Dr. Chicago 60606 30th Floor Conference Room
UID:e.434.10168
SEQUENCE:3
DTSTAMP:20260424T175027Z
URL:http://business.glenviewchamber.com/events/details/tax-professional-reception-ce-credits-10168
END:VEVENT

END:VCALENDAR
