BEGIN:VCALENDAR
VERSION:2.0
PRODID:-//ChamberMaster//Event Calendar 2.0//EN
METHOD:PUBLISH
X-PUBLISHED-TTL:P3D
REFRESH-INTERVAL:P3D
CALSCALE:GREGORIAN
BEGIN:VEVENT
DTSTART:20190121T150000Z
DTEND:20190121T190000Z
X-MICROSOFT-CDO-ALLDAYEVENT:FALSE
SUMMARY:Test Prep for college bound students
DESCRIPTION:College Tutors\, specializing in Test Prep for college bound students is offering a unique opportunity to get practice\, know exactly where they stand\, and construct a plan to succeed. $99 (Includes ACT or SAT test\, individualized planning & Study guide). Test dates: Monday January 21st 9am-1pm .  Monday February18th 4-8pm.  847-998-5657 to RSVP.
X-ALT-DESC;FMTTYPE=text/html:<span style="font-size:14px\;"><span style="font-family:times new roman\;">College Tutors\, specializing in Test Prep for college bound students is offering a unique opportunity to get practice\, know exactly where they stand\, and construct a plan to succeed.&nbsp\;</span></span><span style="font-family: &quot\;times new roman&quot\;\; font-size: 14px\;">$99</span><span style="font-size:14px\;"><span style="font-family:times new roman\;"> (Includes ACT or SAT test\, individualized planning &amp\; Study guide).</span></span><span style="font-family: &quot\;times new roman&quot\;\; font-size: 14px\;">&nbsp\;</span><span style="font-size:14px\;"><span style="font-family:times new roman\;">Test dates: Monday January 21<sup>st</sup> 9am-1pm .&nbsp\; Monday February18th 4-8pm. &nbsp\;847-998-5657 to RSVP.<br />\n&nbsp\;</span></span>
LOCATION:College Nannies Sitters and Tutuor Glenview 958 Harlem Avenue Glenview
UID:e.434.10063
SEQUENCE:3
DTSTAMP:20260425T034728Z
URL:http://business.glenviewchamber.com/events/details/test-prep-for-college-bound-students-10063
END:VEVENT

END:VCALENDAR
