BEGIN:VCALENDAR
VERSION:2.0
PRODID:-//ChamberMaster//Event Calendar 2.0//EN
METHOD:PUBLISH
X-PUBLISHED-TTL:P3D
REFRESH-INTERVAL:P3D
CALSCALE:GREGORIAN
BEGIN:VEVENT
DTSTART:20171217T010000Z
DTEND:20171217T023000Z
X-MICROSOFT-CDO-ALLDAYEVENT:FALSE
SUMMARY:The 24th Annual Toy-ful Celebration concert
DESCRIPTION:Bring your family to the 24th Annual Toy-ful Celebration concert benefiting the U.S. Marine Corps Reserves Toys for Tots program at the Glenview Community Church on Saturday\, December 16th at 7:00pm. Join the Community Toy Choir\, directed by Guillermo Mu oz K ster\, and the Glenview Concert Band\, under the direction of Greg Wojcik\, for a festive evening of holiday music and fun. Doors open at 6:30\; Christmas carol sing along 6:45. The concert is free\, but please bring a new unwrapped toy.
X-ALT-DESC;FMTTYPE=text/html:Bring your family to the 24th Annual Toy-ful Celebration concert benefiting the U.S. Marine Corps Reserves Toys for Tots program at the Glenview Community Church on Saturday\, December 16th at 7:00pm. Join the Community Toy Choir\, directed by Guillermo Mu&ntilde\;oz K&uuml\;ster\, and the Glenview Concert Band\, under the direction of Greg Wojcik\, for a festive evening of holiday music and fun. Doors open at 6:30\; Christmas carol sing along 6:45. The concert is free\, but please bring a new unwrapped toy.
LOCATION:Glenview Community Church\, 1000 Elm St.\, Glenview
UID:e.434.8678
SEQUENCE:3
DTSTAMP:20260425T202716Z
URL:http://business.glenviewchamber.com/events/details/the-24th-annual-toy-ful-celebration-concert-8678
END:VEVENT

END:VCALENDAR
