BEGIN:VCALENDAR
VERSION:2.0
PRODID:-//ChamberMaster//Event Calendar 2.0//EN
METHOD:PUBLISH
X-PUBLISHED-TTL:P3D
REFRESH-INTERVAL:P3D
CALSCALE:GREGORIAN
BEGIN:VEVENT
DTSTART:20171203T160000Z
DTEND:20171203T170000Z
X-MICROSOFT-CDO-ALLDAYEVENT:FALSE
SUMMARY:The 66th annual presentation of "The Nativity" pageant
DESCRIPTION:The members and children of the Glenview Community Church present the 66th Annual performance of "The Nativity" Christmas pageant through a blend of music\, movement\, color\, light and spoken word on Sunday\, December 3\, 2017 at 10:00am and 1:00pm. Plan to begin your Advent season with us with this special celebration of the meaning of Christmas. A freewill offering will be taken. Glenview Community Church is located at 1000 Elm Street (at Glenview Road). The building is handicap accessible and has free onsite parking. It is 3 blocks west of the Glenview Metra North train station. Visit www.gccucc.org\, email simplegifts@gccucc.org\, or call 847-724-2210 for further details.
X-ALT-DESC;FMTTYPE=text/html:The members and children of the Glenview Community Church present the 66th Annual performance of &ldquo\;The Nativity&rdquo\; Christmas pageant through a blend of music\, movement\, color\, light and spoken word on Sunday\, December 3\, 2017 at 10:00am and 1:00pm. Plan to begin your Advent season with us with this special celebration of the meaning of Christmas. A freewill offering will be taken. Glenview Community Church is located at 1000 Elm Street (at Glenview Road). The building is handicap accessible and has free onsite parking. It is 3 blocks west of the Glenview Metra North train station. Visit www.gccucc.org\, email simplegifts@gccucc.org\, or call 847-724-2210 for further details.
LOCATION:Glenview Community Church\, 1000 Elm St.
UID:e.434.8677
SEQUENCE:3
DTSTAMP:20260425T203849Z
URL:http://business.glenviewchamber.com/events/details/the-66th-annual-presentation-of-the-nativity-pageant-8677
END:VEVENT

END:VCALENDAR
