BEGIN:VCALENDAR
VERSION:2.0
PRODID:-//ChamberMaster//Event Calendar 2.0//EN
METHOD:PUBLISH
X-PUBLISHED-TTL:P3D
REFRESH-INTERVAL:P3D
CALSCALE:GREGORIAN
BEGIN:VEVENT
DTSTART:20180627T150000Z
DTEND:20180627T200000Z
X-MICROSOFT-CDO-ALLDAYEVENT:FALSE
SUMMARY:The Chicago Lighthouse Associate Board's 32nd Annual House & Garden Walk
DESCRIPTION:The Chicago Lighthouse Associate Board's 32nd Annual House and Garden Walk\n\nWednesday\, June 27\, 2018\n\n\nTickets purchased by June 23rd: $75 ~ Tickets purchased at the door: $95\n\nPurchase tickets online at: https://chicagolighthouse.org/event/houseandgarden/\n\n(No children under the age of 12 will be permitted inside the homes.)\n\n\nRegistration & ticket pick-up:\n\n9:30 a.m.   1 p.m.\n\nNorth Shore Congregation Israel\n\n1185 Sheridan Road\, Glencoe\, IL 60022\n\n\nEvent Time:\n\n10 a.m.   3 p.m. with last entry into homes at 2:45 p.m.\n\n\nOptional Lunches are $15 each\n\nLunch options provided by LYFE Kitchen   Love Your Food Everyday\n\nAll lunches include dessert and bottled water.\n\n\n	Chicken Kale Caesar Salad: : organic kale & romaine hearts\, chicken\, cherry tomatoes\, cucumbers\, broccoli\, parmesan & whole wheat breadcrumbs\, served with eggless Caesar dressing on the side\n	Quinoa Bowl: quinoa\, cherry tomatoes\, broccoli\, cucumber\, arugula\, edamame hummus with a chipotle vinaigrette dressing and fireman's hot sauce on the side (Vegetarian & Gluten Free)\n	Grilled Chicken & Avocado Wrap: grilled chicken\, roasted tomatoes\, organic romaine & avocado in a whole wheat tortilla with tarragon aioli dressing. Kale salad with lemon vinaigrette dressing on the side.\n\nProceeds from the event go to The Chicago Lighthouse supporting programs that serve the blind\, visually impaired\, disabled & Veteran communities. Our Associate Board has raised nearly 2.5M for us over the last 31 years and this is their main fundraiser.
X-ALT-DESC;FMTTYPE=text/html:<p style="text-align:left"><span style="font-size:14px"><span style="font-family:arial\,helvetica\,sans-serif"><span style="color:#ff6600"><span style="font-size:16px"><strong>The Chicago Lighthouse Associate Board</strong><strong>&#39\;s 32nd Annual House and Garden Walk</strong></span></span></span></span></p>\n\n<p><span style="font-size:14px"><span style="font-family:arial\,helvetica\,sans-serif">Wednesday\, June 27\, 2018</span></span></p>\n\n<hr />\n<p><span style="font-size:14px"><span style="font-family:arial\,helvetica\,sans-serif"><span style="color:#ff6600"><strong>Tickets purchased by June 23rd: $75 ~ Tickets purchased at the door: $95</strong></span></span><br />\nPurchase tickets online at: <a href="https://chicagolighthouse.org/event/houseandgarden/" target="_blank">https://chicagolighthouse.org/event/houseandgarden/</a></span></p>\n\n<p><span style="font-size:14px"><span style="font-family:arial\,helvetica\,sans-serif">(No children under the age of 12 will be permitted inside the homes.)</span></span></p>\n\n<hr />\n<p><span style="font-size:14px"><span style="font-family:arial\,helvetica\,sans-serif"><span style="color:rgb(255\, 102\, 0)"><strong>Registration &amp\; ticket pick-up:</strong></span><br />\n9:30 a.m. &ndash\; 1 p.m.<br />\nNorth Shore Congregation Israel<br />\n1185 Sheridan Road\, Glencoe\, IL 60022</span></span></p>\n\n<hr />\n<p><span style="font-size:14px"><span style="font-family:arial\,helvetica\,sans-serif"><span style="color:#ff6600"><strong>Event Time:</strong></span><br />\n10 a.m. &ndash\; 3 p.m. with last entry into homes at 2:45 p.m.</span></span></p>\n\n<hr />\n<p><span style="font-size:14px"><span style="font-family:arial\,helvetica\,sans-serif"><span style="color:#ff6600"><strong>Optional Lunches are $15 each</strong></span><br />\nLunch options provided by LYFE Kitchen &ndash\; Love Your Food Everyday<br />\nAll lunches include dessert and bottled water.</span></span></p>\n\n<ul>\n	<li><span style="font-size:14px"><span style="font-family:arial\,helvetica\,sans-serif"><strong>Chicken Kale Caesar Salad: :</strong> organic kale &amp\; romaine hearts\, chicken\, cherry tomatoes\, cucumbers\, broccoli\, parmesan &amp\; whole wheat breadcrumbs\, served with eggless Caesar dressing on the side</span></span></li>\n	<li><span style="font-size:14px"><span style="font-family:arial\,helvetica\,sans-serif"><strong>Quinoa Bowl:</strong> quinoa\, cherry tomatoes\, broccoli\, cucumber\, arugula\, edamame hummus with a chipotle vinaigrette dressing and fireman&rsquo\;s hot sauce on the side (Vegetarian &amp\; Gluten Free)</span></span></li>\n	<li><span style="font-size:14px"><span style="font-family:arial\,helvetica\,sans-serif"><strong>Grilled Chicken &amp\; Avocado Wrap:</strong> grilled chicken\, roasted tomatoes\, organic romaine &amp\; avocado in a whole wheat tortilla with tarragon aioli dressing. Kale salad with lemon vinaigrette dressing on the side.</span></span></li>\n</ul>\n<span style="color:#ff6600"><span style="font-size:16px"><strong><span style="font-family:arial\,helvetica\,sans-serif">Proceeds from the event go to The Chicago Lighthouse supporting programs that serve the blind\, visually impaired\, disabled &amp\; Veteran communities. Our Associate Board has raised nearly 2.5M for us over the last 31 years and this is their main fundraiser.</span></strong></span></span><br />\n&nbsp\;
LOCATION:Registration & ticket pick-up: 9:30 a.m. 1 p.m. North Shore Congregation Israel 1185 Sheridan Road\, Glencoe\, IL 60022
UID:e.434.9776
SEQUENCE:3
DTSTAMP:20260425T125130Z
URL:http://business.glenviewchamber.com/events/details/the-chicago-lighthouse-associate-board-s-32nd-annual-house-garden-walk-9776
END:VEVENT

END:VCALENDAR
