BEGIN:VCALENDAR
VERSION:2.0
PRODID:-//ChamberMaster//Event Calendar 2.0//EN
METHOD:PUBLISH
X-PUBLISHED-TTL:P3D
REFRESH-INTERVAL:P3D
CALSCALE:GREGORIAN
BEGIN:VEVENT
DTSTART:20260328T180000Z
DTEND:20260328T200000Z
X-MICROSOFT-CDO-ALLDAYEVENT:FALSE
SUMMARY:The CoderSchool Glenview Grand Opening
DESCRIPTION:Families and kids are encouraged to check out the newest coding and tech tutoring center\, straight from Silicon Valley. Learn to code. Change the world!
X-ALT-DESC;FMTTYPE=text/html:Families and kids are encouraged to check out the newest coding and tech tutoring center\, straight from Silicon Valley.<em> Learn to code. Change the world!</em>
LOCATION:1039 Waukegan Road Glenview
UID:e.434.11790
SEQUENCE:3
DTSTAMP:20260421T083030Z
URL:http://business.glenviewchamber.com/events/details/the-coderschool-glenview-grand-opening-11790
END:VEVENT

END:VCALENDAR
