BEGIN:VCALENDAR
VERSION:2.0
PRODID:-//ChamberMaster//Event Calendar 2.0//EN
METHOD:PUBLISH
X-PUBLISHED-TTL:P3D
REFRESH-INTERVAL:P3D
CALSCALE:GREGORIAN
BEGIN:VEVENT
DTSTART:20180607T223000Z
DTEND:20180608T013000Z
X-MICROSOFT-CDO-ALLDAYEVENT:FALSE
SUMMARY:The Glen Club Presents...Dennis Walters Golf Show - "Golf Lessons\, Life Lessons"
DESCRIPTION:Dennis Walters Golf Show - "Golf Lessons\, Life Lessons"\n\nLouis Sauer\, 2017 Illinois PGA Teacher of the Year\n\nPatrick Flavin\, 2017 Illinois Open Champion\n\nMini-lessons from Illinois PGA Professionals\n\nFood and beverage options available.
X-ALT-DESC;FMTTYPE=text/html:Dennis Walters Golf Show - &quot\;Golf Lessons\, Life Lessons&quot\;<br />\nLouis Sauer\, 2017 Illinois PGA Teacher of the Year<br />\nPatrick Flavin\, 2017 Illinois Open Champion<br />\nMini-lessons from Illinois PGA Professionals<br />\nFood and beverage options available.
LOCATION:The Glen Club Driving Range 2901 West Lake Avenue Glenview
UID:e.434.9792
SEQUENCE:3
DTSTAMP:20260425T125128Z
URL:http://business.glenviewchamber.com/events/details/the-glen-club-presents-dennis-walters-golf-show-golf-lessons-life-lessons-9792
END:VEVENT

END:VCALENDAR
