BEGIN:VCALENDAR
VERSION:2.0
PRODID:-//ChamberMaster//Event Calendar 2.0//EN
METHOD:PUBLISH
X-PUBLISHED-TTL:P3D
REFRESH-INTERVAL:P3D
CALSCALE:GREGORIAN
BEGIN:VEVENT
DTSTART:20180519T000000Z
DTEND:20180519T020000Z
X-MICROSOFT-CDO-ALLDAYEVENT:FALSE
SUMMARY:The University of Heidelberg OH Concert Choir performs at Glenview Community Church
DESCRIPTION:The 51-voice University of Heidelberg Concert Choir from Tiffin\, OH\, presents "Come Travel With Me" at the Glenview Community Church\, 1000 Elm in Glenview\, on Friday evening\, May 18\, at 7:00 p.m. The concert is the final stop of the choir's spring tour and includes selections of Arvo P rt\, Robert Schumann\, and Eric Whitacre among others. A freewill donation will be taken. For more information visit www.gccmusic.org or call the church office at (847) 724-2210.
X-ALT-DESC;FMTTYPE=text/html:The 51-voice University of Heidelberg Concert Choir from Tiffin\, OH\, presents &ldquo\;Come Travel With Me&rdquo\; at the Glenview Community Church\, 1000 Elm in Glenview\, on Friday evening\, May 18\, at 7:00 p.m. The concert is the final stop of the choir&rsquo\;s spring tour and includes selections of Arvo P&auml\;rt\, Robert Schumann\, and Eric Whitacre among others. A freewill donation will be taken. For more information visit www.gccmusic.org or call the church office at (847) 724-2210.
LOCATION:Glenview Community Church\, 1000 Elm St.
UID:e.434.9779
SEQUENCE:3
DTSTAMP:20260425T140012Z
URL:http://business.glenviewchamber.com/events/details/the-university-of-heidelberg-oh-concert-choir-performs-at-glenview-community-church-9779
END:VEVENT

END:VCALENDAR
