BEGIN:VCALENDAR
VERSION:2.0
PRODID:-//ChamberMaster//Event Calendar 2.0//EN
METHOD:PUBLISH
X-PUBLISHED-TTL:P3D
REFRESH-INTERVAL:P3D
CALSCALE:GREGORIAN
BEGIN:VEVENT
DTSTART:20250416T183000Z
DTEND:20250416T193000Z
X-MICROSOFT-CDO-ALLDAYEVENT:FALSE
SUMMARY:This is Perimenopause?!?
DESCRIPTION:Learn what current research says about training your body effectively now and into menopause\, so you can stay strong\, healthy\, and resilient.
X-ALT-DESC;FMTTYPE=text/html:Learn what current research says about training your body effectively now and into menopause\, so you can stay strong\, healthy\, and resilient.
LOCATION:Online
UID:e.434.11186
SEQUENCE:3
DTSTAMP:20260420T111534Z
URL:http://business.glenviewchamber.com/events/details/this-is-perimenopause-11186
END:VEVENT

END:VCALENDAR
