BEGIN:VCALENDAR
VERSION:2.0
PRODID:-//ChamberMaster//Event Calendar 2.0//EN
METHOD:PUBLISH
X-PUBLISHED-TTL:P3D
REFRESH-INTERVAL:P3D
CALSCALE:GREGORIAN
BEGIN:VEVENT
DTSTART:20180311T120000Z
DTEND:20180311T170000Z
X-MICROSOFT-CDO-ALLDAYEVENT:FALSE
SUMMARY:Together We Tri Indoor Tri
DESCRIPTION:Together We Tri Indoor Tri\n\nAll levels welcome! Fun Family Event!\n\n\n\n10 minute swim - 20 minute bike - 15 minute run\n\nChoose your race start time!!\n\n\n\nSingle Challenge!\n\nCost: $35 PCHF Members - $45 all others\n\n\n\nDouble Challenge!\n\n*Race in 2 waves\, twice the fun!*\n\nCost: $65 PCHF Members - $75 all others\n\nNEW! - 3 slots only!\n\n(Wave start times must begin by 9:30 a.m.)\n\n\n\nTriple Challenge!\n\n* Race in 3 waves\, triple the fun!*\n\nCost: $90 PCHF Members - $105 all others\n\nNEW! - 3 slots only!\n\n(Wave start times must begin by 8:00 a.m.)\n\n\n\nA portion of the event proceeds will be donated to Juvenile Diabetes Research Foundation.
X-ALT-DESC;FMTTYPE=text/html:Together We Tri Indoor Tri<br />\nAll levels welcome! Fun Family Event!<br />\n<br />\n10 minute swim - 20 minute bike - 15 minute run<br />\nChoose your race start time!!<br />\n<br />\nSingle Challenge!<br />\nCost: $35 PCHF Members - $45 all others<br />\n<br />\nDouble Challenge!<br />\n*Race in 2 waves\, twice the fun!*<br />\nCost: $65 PCHF&nbsp\;Members - $75 all others<br />\nNEW! - 3 slots only!<br />\n(Wave start times must begin by 9:30 a.m.)<br />\n<br />\nTriple Challenge!<br />\n* Race in 3 waves\, triple the fun!*<br />\nCost: $90&nbsp\;PCHF&nbsp\;Members - $105 all others<br />\nNEW! - 3 slots only!<br />\n(Wave start times must begin by 8:00 a.m.)<br />\n<br />\nA portion of the event proceeds will be donated to Juvenile Diabetes Research Foundation.&nbsp\;
LOCATION:Park Center March 11
UID:e.434.8734
SEQUENCE:3
DTSTAMP:20260425T163418Z
URL:http://business.glenviewchamber.com/events/details/together-we-tri-indoor-tri-8734
END:VEVENT

END:VCALENDAR
