BEGIN:VCALENDAR
VERSION:2.0
PRODID:-//ChamberMaster//Event Calendar 2.0//EN
METHOD:PUBLISH
X-PUBLISHED-TTL:P3D
REFRESH-INTERVAL:P3D
CALSCALE:GREGORIAN
BEGIN:VEVENT
DTSTART:20190220T000000Z
DTEND:20190220T010000Z
X-MICROSOFT-CDO-ALLDAYEVENT:FALSE
SUMMARY:Transcranial Magnetic Stimulation (TMS) Therapy
DESCRIPTION:Dr. Hanusa will discuss TMS - Transcranial Magnetic Stimulation Therapy as a proven\, evidence based treatment option for individuals suffering from major depressive disorder. It is an alternative when medication is not enough or the best option. \n\n\n\nOne CEU credit awarded for social workers\, RNs\, LNHAs and case managers.
X-ALT-DESC;FMTTYPE=text/html:Dr. Hanusa will discuss TMS - Transcranial Magnetic Stimulation Therapy as a proven\, evidence based treatment option for individuals suffering from major depressive disorder. It is an alternative when medication is not enough or the best option.&nbsp\;<br />\n<br />\nOne CEU credit awarded for social workers\, RNs\, LNHAs and case managers.&nbsp\;
LOCATION:Emerald Place 1879 Chestnut Ave. Glenview
UID:e.434.10081
SEQUENCE:3
DTSTAMP:20260424T235233Z
URL:http://business.glenviewchamber.com/events/details/transcranial-magnetic-stimulation-tms-therapy-10081
END:VEVENT

END:VCALENDAR
