BEGIN:VCALENDAR
VERSION:2.0
PRODID:-//ChamberMaster//Event Calendar 2.0//EN
METHOD:PUBLISH
X-PUBLISHED-TTL:P3D
REFRESH-INTERVAL:P3D
CALSCALE:GREGORIAN
BEGIN:VEVENT
DTSTART:20180525T150000Z
DTEND:20180525T190000Z
X-MICROSOFT-CDO-ALLDAYEVENT:FALSE
SUMMARY:Village of Glenview Blood Drive
DESCRIPTION:Village of Glenview Blood Drive\n\nDonation made to "Operation Support Our Troops" on behalf of each donor. \n\nAppointments recommended by calling LifeSource at 877-543-3768\n\nWalk-ins Welcome
X-ALT-DESC;FMTTYPE=text/html:Village of Glenview Blood Drive<br />\nDonation made to &quot\;Operation Support Our Troops&quot\; on behalf of each donor.&nbsp\;<br />\nAppointments recommended by calling LifeSource at 877-543-3768<br />\nWalk-ins Welcome
LOCATION:Village Hall 2500 E. Lake Avenue Glenview
UID:e.434.8772
SEQUENCE:3
DTSTAMP:20260425T135943Z
URL:http://business.glenviewchamber.com/events/details/village-of-glenview-blood-drive-8772
END:VEVENT

END:VCALENDAR
