BEGIN:VCALENDAR
VERSION:2.0
PRODID:-//ChamberMaster//Event Calendar 2.0//EN
METHOD:PUBLISH
X-PUBLISHED-TTL:P3D
REFRESH-INTERVAL:P3D
CALSCALE:GREGORIAN
BEGIN:VEVENT
DTSTART:20250625T223000Z
DTEND:20250626T000000Z
X-MICROSOFT-CDO-ALLDAYEVENT:FALSE
SUMMARY:Wellness Group Event
DESCRIPTION:Join the Glenview Chamber Health & Wellness Group for an after-hours networking event at B.yond Physical Therapy in Northfield. This is a great opportunity to connect with fellow professionals while learning about the wide range of services offered by B.yond\, including dry needling\, cupping\, and therapeutic exercise. The doctors of physical therapy will share insights into these treatments and how they can support overall health and wellness. The event will also feature a discussion on pelvic health and the various women's health conditions that can be effectively treated with physical therapy. Light appetizers and drinks will be provided.
X-ALT-DESC;FMTTYPE=text/html:Join the Glenview Chamber Health &amp\; Wellness Group for an after-hours networking event at B.yond Physical Therapy in Northfield. This is a great opportunity to connect with fellow professionals while learning about the wide range of services offered by B.yond\, including dry needling\, cupping\, and therapeutic exercise. The doctors of physical therapy will share insights into these treatments and how they can support overall health and wellness. The event will also feature a discussion on pelvic health and the various women&rsquo\;s health conditions that can be effectively treated with physical therapy. Light appetizers and drinks will be provided.<br />\n&nbsp\;
LOCATION:*********PLEASE NOTE ADDRESS 495 Central Ave Northfield\, IL
UID:e.434.11166
SEQUENCE:3
DTSTAMP:20260421T082432Z
URL:http://business.glenviewchamber.com/events/details/wellness-group-event-11166
END:VEVENT

END:VCALENDAR
