BEGIN:VCALENDAR
VERSION:2.0
PRODID:-//ChamberMaster//Event Calendar 2.0//EN
METHOD:PUBLISH
X-PUBLISHED-TTL:P3D
REFRESH-INTERVAL:P3D
CALSCALE:GREGORIAN
BEGIN:VEVENT
DTSTART:20180504T220000Z
DTEND:20180505T013000Z
X-MICROSOFT-CDO-ALLDAYEVENT:FALSE
SUMMARY:Wesley/Kiwanis Pizza Mania 2018
DESCRIPTION:Wesley/Kiwanis Pizza Mania 2018\n\nAll you can eat pizza!\n\nKids activities\n\nMusic & Drawings\n\nSilent Auction
X-ALT-DESC;FMTTYPE=text/html:<strong><span style="font-family:calibri\,sans-serif\;"><span style="font-size:11.0pt\;">Wesley/Kiwanis Pizza Mania 2018<br />\nAll you can eat pizza!<br />\nKids activities<br />\nMusic &amp\; Drawings<br />\nSilent Auction</span></span></strong><br />\n&nbsp\;
LOCATION:Wesley Child Care 727 Harlem Avenue Glenview\, IL
UID:e.434.7290
SEQUENCE:3
DTSTAMP:20260425T135616Z
URL:http://business.glenviewchamber.com/events/details/wesley-kiwanis-pizza-mania-2018-7290
END:VEVENT

END:VCALENDAR
