BEGIN:VCALENDAR
VERSION:2.0
PRODID:-//ChamberMaster//Event Calendar 2.0//EN
METHOD:PUBLISH
X-PUBLISHED-TTL:P3D
REFRESH-INTERVAL:P3D
CALSCALE:GREGORIAN
BEGIN:VEVENT
DTSTART:20180726T223000Z
DTEND:20180727T010000Z
X-MICROSOFT-CDO-ALLDAYEVENT:FALSE
SUMMARY:Wisdom 4 Health
DESCRIPTION:American Cancer Society North Shore Regional Leadership\n\nBoard and NorthShore University HealthSystem invite you\n\nto meet the experts.\n\nWisdom 4 Health\n\nLearn how making smart choices can help\n\nyour tweens and teens have a healthier future.\n\n\n\nCarolyn Bruzdzinski\, Ph.D.\n\nVice President\, Regional Cancer Control NCR\n\nAmerican Cancer Society\, Inc.\n\nNutrition\, Teen Smoking and Cervical Cancer\n\nBruce E. Brockstein\, MD\n\nDivision Head\, Hematology/Oncology\n\nKellogg-Scanlon Chair in Oncology\n\nNorthShore University HealthSystem\n\nHPV related cancers. Epidemiology/Transmission\,\n\nImpact\, Treatment and Prevention.\n\nJulie Holland\, MD\n\nDivision Head\, General Pediatrics\n\nVice Chairman\, Department of Pediatrics\n\nNorthShore University HealthSystem\n\nMedical Director\, Evanston Township H.S. Health Center\n\nPreventing cancer in your pre-teen with the HPV\n\nvaccine.\n\n \n\nEmmaline Rasmussen\, MS RD\, LDN\n\nNutrition Specialist\, Clinical Research Dietician\n\nNorthShore University HealthSystem\n\nPlant powered prevention for teens.
X-ALT-DESC;FMTTYPE=text/html:<p>American Cancer Society North Shore Regional Leadership<br />\nBoard and NorthShore University HealthSystem invite you<br />\nto meet the experts.<br />\nWisdom 4 Health<br />\nLearn how making smart choices can help<br />\nyour tweens and teens have a healthier future.<br />\n<br />\nCarolyn Bruzdzinski\, Ph.D.<br />\nVice President\, Regional Cancer Control NCR<br />\nAmerican Cancer Society\, Inc.<br />\nNutrition\, Teen Smoking and Cervical Cancer</p>\n\n<p>Bruce E. Brockstein\, MD<br />\nDivision Head\, Hematology/Oncology<br />\nKellogg-Scanlon Chair in Oncology<br />\nNorthShore University HealthSystem<br />\nHPV related cancers. Epidemiology/Transmission\,<br />\nImpact\, Treatment and Prevention.</p>\n\n<p>Julie Holland\, MD<br />\nDivision Head\, General Pediatrics<br />\nVice Chairman\, Department of Pediatrics<br />\nNorthShore University HealthSystem<br />\nMedical Director\, Evanston Township H.S. Health Center<br />\nPreventing cancer in your pre-teen with the HPV<br />\nvaccine.<br />\n&nbsp\;</p>\n\n<p>Emmaline Rasmussen\, MS RD\, LDN<br />\nNutrition Specialist\, Clinical Research Dietician<br />\nNorthShore University HealthSystem<br />\nPlant powered prevention for teens.</p>\n
LOCATION:Wilmette Park District\, Theatre 3000 Glenview Rd. Wilmette\, IL 60091
UID:e.434.9808
SEQUENCE:3
DTSTAMP:20260425T112637Z
URL:http://business.glenviewchamber.com/events/details/wisdom-4-health-9808
END:VEVENT

END:VCALENDAR
