BEGIN:VCALENDAR
VERSION:2.0
PRODID:-//ChamberMaster//Event Calendar 2.0//EN
METHOD:PUBLISH
X-PUBLISHED-TTL:P3D
REFRESH-INTERVAL:P3D
CALSCALE:GREGORIAN
BEGIN:VEVENT
DTSTART:20171017T164500Z
DTEND:20171017T181500Z
X-MICROSOFT-CDO-ALLDAYEVENT:FALSE
SUMMARY:Women's Networking Luncheon
DESCRIPTION:The Women's Networking Luncheon provides a platform for members of the Glenview Chamber to create solid relationships\, further professional development\, and build strategic alliances. This unique environment is a gathering place for individuals with diverse levels of professional experiences to share ideas and mentor each other.\n\nThe program is structured around helping create a strong professional network\, and participants have an opportunity to engage with other members in a casual setting. The dedicated hour of your day\, once every other month\, will empower you to strengthen your business and connection to the community. \n\nTwo members are given the opportunity to show off their expertise and spotlight their knowledge on a particular topic as a member of the business community.
X-ALT-DESC;FMTTYPE=text/html:<p style="margin: 0px 0px 26px\; padding: 0px\; border: 0px\; font-stretch: normal\; font-size: 16px\; line-height: 26px\; font-family: Roboto\, sans-serif\; vertical-align: baseline\; color: rgb(34\, 34\, 34)\; box-sizing: border-box\;">The Women&#39\;s Networking Luncheon provides a platform for members of the Glenview Chamber to create solid relationships\, further professional development\, and build strategic alliances. This unique environment is a gathering place for individuals with diverse levels of professional experiences to share ideas and mentor each other.</p>\n\n<p style="margin: 0px 0px 26px\; padding: 0px\; border: 0px\; font-stretch: normal\; font-size: 16px\; line-height: 26px\; font-family: Roboto\, sans-serif\; vertical-align: baseline\; color: rgb(34\, 34\, 34)\; box-sizing: border-box\;">The program is structured around helping create a strong professional network\, and participants have an opportunity to engage with other members in a casual setting. The dedicated hour of your day\, once every other month\, will empower you to strengthen your business and connection to the community.&nbsp\;</p>\n\n<p style="margin: 0px 0px 26px\; padding: 0px\; border: 0px\; font-stretch: normal\; font-size: 16px\; line-height: 26px\; font-family: Roboto\, sans-serif\; vertical-align: baseline\; color: rgb(34\, 34\, 34)\; box-sizing: border-box\;">Two members are given the opportunity to show off their&nbsp\;expertise and spotlight their&nbsp\;knowledge on a particular topic as a member of the business community. &nbsp\;</p>\n
LOCATION:Delta by Marriott Chicago North Shore Hotel 1400 N. Milwaukee Ave. Glenview\, IL 60025
UID:e.434.6837
SEQUENCE:3
DTSTAMP:20260425T225003Z
URL:http://business.glenviewchamber.com/events/details/women-s-networking-luncheon-6837
END:VEVENT

END:VCALENDAR
