BEGIN:VCALENDAR
VERSION:2.0
PRODID:-//ChamberMaster//Event Calendar 2.0//EN
METHOD:PUBLISH
X-PUBLISHED-TTL:P3D
REFRESH-INTERVAL:P3D
CALSCALE:GREGORIAN
BEGIN:VEVENT
DTSTART:20180123T173000Z
DTEND:20180123T193000Z
X-MICROSOFT-CDO-ALLDAYEVENT:FALSE
SUMMARY:Women's Networking - Multi Chamber Event
DESCRIPTION:Women's Networking Multi-Chamber Luncheon\n\nJoin dynamic business women from the Northbrook\, Deerfield\, Bannockburn\, & Riverwoods Chambers for an Intro presentation by the Museum's Education Director\, the new Holographic Theatre experience and a boxed lunch.
X-ALT-DESC;FMTTYPE=text/html:<span style="font-size:14px\;"><strong>Women&#39\;s Networking Multi-Chamber Luncheon</strong></span><br />\nJoin dynamic business women from the Northbrook\, Deerfield\, Bannockburn\, &amp\; Riverwoods&nbsp\;Chambers for an&nbsp\;Intro presentation by the Museum&rsquo\;s Education Director\, the new Holographic Theatre experience and a boxed lunch.<br />\n&nbsp\;
LOCATION:Illinois Holocaust Museum & Education Center 9603 Woods Drive Skokie
UID:e.434.8698
SEQUENCE:3
DTSTAMP:20260425T190252Z
URL:http://business.glenviewchamber.com/events/details/women-s-networking-multi-chamber-event-8698
END:VEVENT

END:VCALENDAR
