BEGIN:VCALENDAR
VERSION:2.0
PRODID:-//ChamberMaster//Event Calendar 2.0//EN
METHOD:PUBLISH
X-PUBLISHED-TTL:P3D
REFRESH-INTERVAL:P3D
CALSCALE:GREGORIAN
BEGIN:VEVENT
DTSTART:20250930T140000Z
DTEND:20250930T153000Z
X-MICROSOFT-CDO-ALLDAYEVENT:FALSE
SUMMARY:Workforce Resources & Talent Solutions for Manufacturers
DESCRIPTION:Join us as we celebrate the close of National Workforce Development Month and kick off Manufacturing Month with an engaging event focused on manufacturing workforce development.
X-ALT-DESC;FMTTYPE=text/html:Join us as we celebrate the close of National Workforce Development Month and kick off Manufacturing Month with an engaging event focused on manufacturing workforce development.&nbsp\;
LOCATION:The Trade Collective 1910 Greenwood Street Evanston\, IL 60201
UID:e.434.11512
SEQUENCE:3
DTSTAMP:20260420T073427Z
URL:http://business.glenviewchamber.com/events/details/workforce-resources-talent-solutions-for-manufacturers-11512
END:VEVENT

END:VCALENDAR
