BEGIN:VCALENDAR
VERSION:2.0
PRODID:-//ChamberMaster//Event Calendar 2.0//EN
METHOD:PUBLISH
X-PUBLISHED-TTL:P3D
REFRESH-INTERVAL:P3D
CALSCALE:GREGORIAN
BEGIN:VEVENT
DTSTART:20170813T140000Z
DTEND:20170813T150000Z
X-MICROSOFT-CDO-ALLDAYEVENT:FALSE
SUMMARY:Yoga & Brunch by CorePower Yoga & Pinstripes
DESCRIPTION:Kick off your Sunday morning with an energizing yoga class and stay for our bottomless brunch! The one-hour yoga class is led by a CorePower Yoga instructor. Tickets are just $5 and include a complimentary mimosa (21+) and $5 off our bottomless brunch buffet.\n\nYoga: 9am - 10am | Brunch: served until 2pm\n\nPlease bring your own yoga mat and arrive at least 15 minutes prior to the start of class. Brunch reservations are strongly encouraged. Please click here to make your reservation for brunch!
X-ALT-DESC;FMTTYPE=text/html:<p style="margin: 0px\; padding: 0px\; color: rgb(102\, 106\, 115)\; font-family: &quot\;Benton Sans&quot\;\, -apple-system\, BlinkMacSystemFont\, Roboto\, &quot\;Helvetica Neue&quot\;\, Helvetica\, Tahoma\, Arial\, sans-serif\; font-size: 15px\; letter-spacing: 0.5px\; background-color: rgb(255\, 255\, 255)\;">Kick off your Sunday morning with an energizing yoga class and stay for our bottomless brunch! The one-hour yoga class is led by a CorePower Yoga instructor. Tickets are just $5 and include a complimentary mimosa (21+) and $5 off our bottomless brunch buffet.</p>\n\n<p style="margin: 0px\; padding: 10px 0px 0px\; color: rgb(102\, 106\, 115)\; font-family: &quot\;Benton Sans&quot\;\, -apple-system\, BlinkMacSystemFont\, Roboto\, &quot\;Helvetica Neue&quot\;\, Helvetica\, Tahoma\, Arial\, sans-serif\; font-size: 15px\; letter-spacing: 0.5px\; background-color: rgb(255\, 255\, 255)\;">Yoga: 9am - 10am | Brunch: served until 2pm</p>\n\n<p style="margin: 0px\; padding: 10px 0px 0px\; color: rgb(102\, 106\, 115)\; font-family: &quot\;Benton Sans&quot\;\, -apple-system\, BlinkMacSystemFont\, Roboto\, &quot\;Helvetica Neue&quot\;\, Helvetica\, Tahoma\, Arial\, sans-serif\; font-size: 15px\; letter-spacing: 0.5px\; background-color: rgb(255\, 255\, 255)\;">Please bring your own yoga mat and arrive at least 15 minutes prior to the start of class. Brunch reservations are strongly encouraged.&nbsp\;<a href="http://pinstripes.com/make-a-bistro-reservation/%20" rel="noopener noreferrer nofollow" style="color: rgb(0\, 127\, 140)\; text-decoration-line: none\; background-color: transparent\; padding-top: 0px\;" target="_blank">Please click here to make your reservation for brunch!</a></p>\n
LOCATION:Hosted by CorePower Yoga at Pinstripes\, 1150 Willow Road\, Northbrook
UID:e.434.7297
SEQUENCE:3
DTSTAMP:20260426T014550Z
URL:http://business.glenviewchamber.com/events/details/yoga-brunch-by-corepower-yoga-pinstripes-7297
END:VEVENT

END:VCALENDAR
