BEGIN:VCALENDAR
VERSION:2.0
PRODID:-//ChamberMaster//Event Calendar 2.0//EN
METHOD:PUBLISH
X-PUBLISHED-TTL:P3D
REFRESH-INTERVAL:P3D
CALSCALE:GREGORIAN
BEGIN:VEVENT
DTSTART;VALUE=DATE:20170801
DTEND;VALUE=DATE:20170802
TRANSP:TRANSPARENT
X-MICROSOFT-CDO-ALLDAYEVENT:TRUE
SUMMARY:Young Professional Food Drive Runs Through August 31
DESCRIPTION:Help fill the cupboards this August by participating in the YPG Food Drive to support the Northfield Township Food Pantry. No tax dollars are used to support the pantry so it is up to the community to help when they need it most!\n\n\n\nThese are the local businesses that are participating: \n \n\nGlenbrook Remodeling - Showroom    \n\nState & Main    \n\nDavid Weekley Homes    \n\nReact Spine & Sports Institute    \n\nAnimal Artistry    \n\nChicago Harley Davidson     \n\nArcLight Cinemas    \n\nReactive Performance Enhancement Center    \n\nEco Gym    \n\nNorthern Suburban Special Recreation Association    \n\nSweet Ali's Gluten Free Bakery    \n\nGlenview Grind    \n\nPrintwell Printing    \n\nHumblebees Toiletries Company    \n\nState Farm Insurance    \n\nBerkshire Hathaway HomeServices - The Doetsch Team    \n\nDevon Bank    \n\nNorthwestern Medicine - Glenview Outpatient Center    \n\nKaren M. Patterson\, P.C.    \n\nChampionship Martial Arts - Glenview    \n\nSweet Home Improvements    \n\nVillage of Glenview    \n\nGreenhouse Group\, LLC    \n\nLifeSource    \n\nLynch McPeek Wealth Management\, LLC    \n\nGlenview Chamber of Commerce    \n\nAmerican College of Chest Physicians (CHEST)    \n\nPowerKiosk    \n\nGlenview Fire Department    \n\nThe Works    \n\nGlenview Terrace    \n\nGlenview Journal & Topics    \n\nGlenview Public Library    \n\nEstetica Hair Design    \n\nO'Grady Law Group P.C.    \n\nCarriage Hill    \n\nWeiss & Company    \n\nScandinavian Ski Shop    \n\nVintage Nest    \n\nNorth Branch Pizza & Burger Co.  \n\nBaird & Warner\n\nArts of Life\n\nPure Barre
X-ALT-DESC;FMTTYPE=text/html:Help fill the cupboards this August by participating in the YPG Food Drive to support the Northfield Township Food Pantry. No tax dollars are used to support the pantry so it is up to the community to help when they need it most!<br />\n<br />\nThese are the local businesses that are participating:&nbsp\;\n<div>&nbsp\;</div>\n\n<div>Glenbrook Remodeling - Showroom<span style="white-space:pre"> </span> &nbsp\;&nbsp\;</div>\n\n<div>State &amp\; Main<span style="white-space:pre"> </span> &nbsp\;&nbsp\;</div>\n\n<div>David Weekley Homes<span style="white-space:pre"> </span> &nbsp\;&nbsp\;</div>\n\n<div>React Spine &amp\; Sports Institute<span style="white-space:pre"> </span> &nbsp\;&nbsp\;</div>\n\n<div>Animal Artistry<span style="white-space:pre"> </span> &nbsp\;&nbsp\;</div>\n\n<div>Chicago Harley Davidson <span style="white-space:pre"> </span> &nbsp\;&nbsp\;</div>\n\n<div>ArcLight Cinemas<span style="white-space:pre"> </span> &nbsp\;&nbsp\;</div>\n\n<div>Reactive Performance Enhancement Center<span style="white-space:pre"> </span> &nbsp\;&nbsp\;</div>\n\n<div>Eco Gym<span style="white-space:pre"> </span> &nbsp\;&nbsp\;</div>\n\n<div>Northern Suburban Special Recreation Association<span style="white-space:pre"> </span> &nbsp\;&nbsp\;</div>\n\n<div>Sweet Ali&#39\;s Gluten Free Bakery<span style="white-space:pre"> </span> &nbsp\;&nbsp\;</div>\n\n<div>Glenview Grind<span style="white-space:pre"> </span> &nbsp\;&nbsp\;</div>\n\n<div>Printwell Printing<span style="white-space:pre"> </span> &nbsp\;&nbsp\;</div>\n\n<div>Humblebees Toiletries Company<span style="white-space:pre"> </span> &nbsp\;&nbsp\;</div>\n\n<div>State Farm Insurance<span style="white-space:pre"> </span> &nbsp\;&nbsp\;</div>\n\n<div>Berkshire Hathaway HomeServices - The Doetsch Team<span style="white-space:pre"> </span> &nbsp\;&nbsp\;</div>\n\n<div>Devon Bank<span style="white-space:pre"> </span> &nbsp\;&nbsp\;</div>\n\n<div>Northwestern Medicine - Glenview Outpatient Center<span style="white-space:pre"> </span> &nbsp\;&nbsp\;</div>\n\n<div>Karen M. Patterson\, P.C.<span style="white-space:pre"> </span> &nbsp\;&nbsp\;</div>\n\n<div>Championship Martial Arts - Glenview<span style="white-space:pre"> </span> &nbsp\;&nbsp\;</div>\n\n<div>Sweet Home Improvements<span style="white-space:pre"> </span> &nbsp\;&nbsp\;</div>\n\n<div>Village of Glenview<span style="white-space:pre"> </span> &nbsp\;&nbsp\;</div>\n\n<div>Greenhouse Group\, LLC<span style="white-space:pre"> </span> &nbsp\;&nbsp\;</div>\n\n<div>LifeSource<span style="white-space:pre"> </span> &nbsp\;&nbsp\;</div>\n\n<div>Lynch McPeek Wealth Management\, LLC<span style="white-space:pre"> </span> &nbsp\;&nbsp\;</div>\n\n<div>Glenview Chamber of Commerce<span style="white-space:pre"> </span> &nbsp\;&nbsp\;</div>\n\n<div>American College of Chest Physicians (CHEST)<span style="white-space:pre"> </span> &nbsp\;&nbsp\;</div>\n\n<div>PowerKiosk<span style="white-space:pre"> </span> &nbsp\;&nbsp\;<br />\nGlenview Fire Department<span style="white-space:pre"> </span> &nbsp\;&nbsp\;</div>\n\n<div>The Works<span style="white-space:pre"> </span> &nbsp\;&nbsp\;</div>\n\n<div>Glenview Terrace<span style="white-space:pre"> </span> &nbsp\;&nbsp\;</div>\n\n<div>Glenview Journal &amp\; Topics<span style="white-space:pre"> </span> &nbsp\;&nbsp\;</div>\n\n<div>Glenview Public Library<span style="white-space:pre"> </span> &nbsp\;&nbsp\;</div>\n\n<div>Estetica Hair Design<span style="white-space:pre"> </span> &nbsp\;&nbsp\;</div>\n\n<div>O&#39\;Grady Law Group P.C.<span style="white-space:pre"> </span> &nbsp\;&nbsp\;</div>\n\n<div>Carriage Hill<span style="white-space:pre"> </span> &nbsp\;&nbsp\;</div>\n\n<div>Weiss &amp\; Company<span style="white-space:pre"> </span> &nbsp\;&nbsp\;</div>\n\n<div>Scandinavian Ski Shop<span style="white-space:pre"> </span> &nbsp\;&nbsp\;</div>\n\n<div>Vintage Nest<span style="white-space:pre"> </span> &nbsp\;&nbsp\;</div>\n\n<div>North Branch Pizza &amp\; Burger Co.<span style="white-space:pre"> </span>&nbsp\;<br />\nBaird &amp\; Warner<br />\nArts of Life<br />\nPure Barre</div>\n
LOCATION:Please contact the Chamber office at info@glenviewchamber.com if you are interested in participating.
UID:e.434.7275
SEQUENCE:3
DTSTAMP:20260426T014506Z
URL:http://business.glenviewchamber.com/events/details/young-professional-food-drive-runs-through-august-31-7275
END:VEVENT

END:VCALENDAR
