BEGIN:VCALENDAR
VERSION:2.0
PRODID:-//ChamberMaster//Event Calendar 2.0//EN
METHOD:PUBLISH
X-PUBLISHED-TTL:P3D
REFRESH-INTERVAL:P3D
CALSCALE:GREGORIAN
BEGIN:VEVENT
DTSTART:20180719T223000Z
DTEND:20180720T000000Z
X-MICROSOFT-CDO-ALLDAYEVENT:FALSE
SUMMARY:Young Professional Networking
DESCRIPTION:Young Professionals of Glenview \n\nBusiness After Hours & Networking Event for the 45 and under crowd!
X-ALT-DESC;FMTTYPE=text/html:<span style="color: rgb(76\, 76\, 83)\; font-family: AsapRegular\, Arial\, sans-serif\; font-size: 14px\;">Young Professionals of Glenview&nbsp\;</span><br style="color: rgb(76\, 76\, 83)\; font-family: AsapRegular\, Arial\, sans-serif\; font-size: 14px\;" />\n<span style="color: rgb(76\, 76\, 83)\; font-family: AsapRegular\, Arial\, sans-serif\; font-size: 14px\;">Business After Hours &amp\; Networking Event for the 45 and under crowd!</span>
LOCATION:North Branch Pizza and Burger Company 4520 W. Lake Avenue
UID:e.434.9802
SEQUENCE:3
DTSTAMP:20260425T111917Z
URL:http://business.glenviewchamber.com/events/details/young-professional-networking-9802
END:VEVENT

END:VCALENDAR
