BEGIN:VCALENDAR
VERSION:2.0
PRODID:-//ChamberMaster//Event Calendar 2.0//EN
METHOD:PUBLISH
X-PUBLISHED-TTL:P3D
REFRESH-INTERVAL:P3D
CALSCALE:GREGORIAN
BEGIN:VEVENT
DTSTART:20251104T233000Z
DTEND:20251105T010000Z
X-MICROSOFT-CDO-ALLDAYEVENT:FALSE
SUMMARY:Young Professionals Event
DESCRIPTION:Join the Young Professionals Group for their last event of the year at Wagner Farm! Network with other young professionals\, play BINGO\, and explore some of the new exhibits. Foods/drinks will be provided. Register in advance.
X-ALT-DESC;FMTTYPE=text/html:Join the Young Professionals Group for their last event of the year at Wagner Farm! Network with other young professionals\, play BINGO\, and explore some of the new exhibits. Foods/drinks will be provided. Register in advance.&nbsp\;
LOCATION:1510 Wagner Rd\, Glenview\, IL Free parking is available in the lot across the street from the farm\, just off Wagner Road. Please enter through the main entrance of the Heritage Center
UID:e.434.11523
SEQUENCE:3
DTSTAMP:20260422T192335Z
URL:http://business.glenviewchamber.com/events/details/young-professionals-event-11523
END:VEVENT

END:VCALENDAR
