BEGIN:VCALENDAR
VERSION:2.0
PRODID:-//ChamberMaster//Event Calendar 2.0//EN
METHOD:PUBLISH
X-PUBLISHED-TTL:P3D
REFRESH-INTERVAL:P3D
CALSCALE:GREGORIAN
BEGIN:VEVENT
DTSTART:20170726T223000Z
DTEND:20170727T000000Z
X-MICROSOFT-CDO-ALLDAYEVENT:FALSE
SUMMARY:Young Professionals Group BBQ
DESCRIPTION:Join the Young Professionals Group for a BBQ at Reactive Performance and Printwell Printing.
X-ALT-DESC;FMTTYPE=text/html:Join the Young Professionals Group for a BBQ at Reactive Performance and Printwell Printing. &nbsp\;
LOCATION:1725 Chestnut Ave. Glenview\, IL
UID:e.434.7267
SEQUENCE:3
DTSTAMP:20260426T030250Z
URL:http://business.glenviewchamber.com/events/details/young-professionals-group-bbq-7267
END:VEVENT

END:VCALENDAR
